BEGIN:VCALENDAR
VERSION:2.0
PRODID:-//Sactown Supermom - ECPv6.15.20//NONSGML v1.0//EN
CALSCALE:GREGORIAN
METHOD:PUBLISH
X-ORIGINAL-URL:https://sactownsupermom.com
X-WR-CALDESC:Events for Sactown Supermom
REFRESH-INTERVAL;VALUE=DURATION:PT1H
X-Robots-Tag:noindex
X-PUBLISHED-TTL:PT1H
BEGIN:VTIMEZONE
TZID:America/Los_Angeles
BEGIN:DAYLIGHT
TZOFFSETFROM:-0800
TZOFFSETTO:-0700
TZNAME:PDT
DTSTART:20240310T100000
END:DAYLIGHT
BEGIN:STANDARD
TZOFFSETFROM:-0700
TZOFFSETTO:-0800
TZNAME:PST
DTSTART:20241103T090000
END:STANDARD
BEGIN:DAYLIGHT
TZOFFSETFROM:-0800
TZOFFSETTO:-0700
TZNAME:PDT
DTSTART:20250309T100000
END:DAYLIGHT
BEGIN:STANDARD
TZOFFSETFROM:-0700
TZOFFSETTO:-0800
TZNAME:PST
DTSTART:20251102T090000
END:STANDARD
BEGIN:DAYLIGHT
TZOFFSETFROM:-0800
TZOFFSETTO:-0700
TZNAME:PDT
DTSTART:20260308T100000
END:DAYLIGHT
BEGIN:STANDARD
TZOFFSETFROM:-0700
TZOFFSETTO:-0800
TZNAME:PST
DTSTART:20261101T090000
END:STANDARD
BEGIN:DAYLIGHT
TZOFFSETFROM:-0800
TZOFFSETTO:-0700
TZNAME:PDT
DTSTART:20270314T100000
END:DAYLIGHT
BEGIN:STANDARD
TZOFFSETFROM:-0700
TZOFFSETTO:-0800
TZNAME:PST
DTSTART:20271107T090000
END:STANDARD
END:VTIMEZONE
BEGIN:VEVENT
DTSTART;TZID=America/Los_Angeles:20260117T100000
DTEND;TZID=America/Los_Angeles:20260117T160000
DTSTAMP:20260421T013617
CREATED:20251229T054918Z
LAST-MODIFIED:20260115T045947Z
UID:10001292-1768644000-1768665600@sactownsupermom.com
SUMMARY:Demonstration Days at Sutter's Fort
DESCRIPTION:Kids can participate in hands-on historical activities at Sutter’s Fort monthly Demonstration Days on Saturday\, January 17\, 2026\, from 10am to 4pm. This event is for kids of all ages. $5 admission includes complimentary admission to the State Indian Museum. \nThe specific experiences scheduled for Demonstration Days may differ. Some example activities may include crafts\, blacksmith demonstrations\, baking bread in an outdoor oven\, hands-on engagements\, interactive educational experiences\, and different skills.
URL:https://sactownsupermom.com/event/demonstration-days-at-sutters-fort/
LOCATION:Sutter’s Fort\, 2701 L St\, Sacramento\, CA\, 95816\, United States
CATEGORIES:Jan 16-19,January,Sutter's Fort
END:VEVENT
BEGIN:VEVENT
DTSTART;TZID=America/Los_Angeles:20260117T093000
DTEND;TZID=America/Los_Angeles:20260117T120000
DTSTAMP:20260421T013617
CREATED:20260111T004450Z
LAST-MODIFIED:20260111T004450Z
UID:10001340-1768642200-1768651200@sactownsupermom.com
SUMMARY:MLK Community Breakfast (Elk Grove)
DESCRIPTION:NAN Sacramento and the City of Elk Grove will have a MLK Community Breakfast on Saturday\, January 17\, 2026 at District 56 in Elk Grove. This popular event will celebrate the legacy of Martin Luther King\, Jr. Discounted student tickets are available.
URL:https://sactownsupermom.com/event/mlk-community-breakfast-elk-grove-2/
LOCATION:District 56\, 8230 Civic Center Dr #100\, Elk Grove\, CA\, 95757
CATEGORIES:Elk Grove,Jan 16-19
END:VEVENT
BEGIN:VEVENT
DTSTART;TZID=America/Los_Angeles:20260116T100000
DTEND;TZID=America/Los_Angeles:20260116T140000
DTSTAMP:20260421T013617
CREATED:20260111T003006Z
LAST-MODIFIED:20260111T003006Z
UID:10001338-1768557600-1768572000@sactownsupermom.com
SUMMARY:NorCal Resist Food & Diaper Distribution
DESCRIPTION:NorCal Resist will have a free food and diaper distribution for those in need in Sacramento on Friday\, January 16\, 2026. The distribution will occur at BAART from 10am to 2pm.
URL:https://sactownsupermom.com/event/norcal-resist-food-diaper-distribution/
LOCATION:BAART\, 310 Harris Ave.\, Sacramento\, CA\, 95838
CATEGORIES:Free
END:VEVENT
BEGIN:VEVENT
DTSTART;TZID=America/Los_Angeles:20260115T100000
DTEND;TZID=America/Los_Angeles:20260115T213000
DTSTAMP:20260421T013617
CREATED:20251230T170636Z
LAST-MODIFIED:20251230T170636Z
UID:10001296-1768471200-1768512600@sactownsupermom.com
SUMMARY:Star Wars Day at the Rink (Folsom)
DESCRIPTION:May the force be with you on Star Wars Day at the Folsom ice rink on Thursday\, January 15\, 2026. Dress up as your favorite Star Wars character and ice skate to a Star Wars music all day.
URL:https://sactownsupermom.com/event/star-wars-day-at-the-rink-folsom/
LOCATION:Historic Folsom Ice Rink\, 905 Leidesdorff St #100\, Folsom\, CA\, 95630
CATEGORIES:January
END:VEVENT
BEGIN:VEVENT
DTSTART;TZID=America/Los_Angeles:20260115T100000
DTEND;TZID=America/Los_Angeles:20260115T180000
DTSTAMP:20260421T013617
CREATED:20260102T012355Z
LAST-MODIFIED:20260102T012355Z
UID:10001299-1768471200-1768500000@sactownsupermom.com
SUMMARY:Free Admission Day at Sacramento Children's Museum
DESCRIPTION:Thanks to First Five Sacramento\, families with children 5 years old and under receive free admission to the Sacramento Children’s Museum on Thursday\, January 15\, 2026. Museum hours will be extended from 10am to 6pm.
URL:https://sactownsupermom.com/event/free-admission-day-at-sacramento-childrens-museum/
LOCATION:Sacramento Children’s Museum\, 2701 Prospect Park\, Rancho Cordova\, CA\, 95670
CATEGORIES:Free,January,Rancho Cordova
END:VEVENT
BEGIN:VEVENT
DTSTART;TZID=America/Los_Angeles:20260112T150000
DTEND;TZID=America/Los_Angeles:20260112T170000
DTSTAMP:20260421T013617
CREATED:20260110T172618Z
LAST-MODIFIED:20260110T172618Z
UID:10001337-1768230000-1768237200@sactownsupermom.com
SUMMARY:Arctic Animal Adventures Art
DESCRIPTION:Join Reimagine Mack Road and All Access Art for a free Arctic Animal Adventures event for kids on Monday\, January 12\, 2026 from 3-5pm. There will be pastel winter art\, arctic animal dot paint\, snowglobe coloring\, polar bear paint\, and STEM igloo building.
URL:https://sactownsupermom.com/event/arctic-animal-adventures-art/
LOCATION:Mack Road Valley Hi Community Center\, 7833 Center Parkway\, Sacramento\, CA\, 95823
CATEGORIES:Art
END:VEVENT
BEGIN:VEVENT
DTSTART;TZID=America/Los_Angeles:20260112T103000
DTEND;TZID=America/Los_Angeles:20260112T123000
DTSTAMP:20260421T013617
CREATED:20260111T005834Z
LAST-MODIFIED:20260111T005834Z
UID:10001341-1768213800-1768221000@sactownsupermom.com
SUMMARY:Diaper Distribution at River City Food Bank
DESCRIPTION:River City Food Bank will have a free diaper distribution for families in need on Monday\, January 12\, 2026 at the RCFB Arden site from 10:30am to 12:30pm. 25-50 diapers per household will be distributed. This is a diapers-only distribution. IDs are not required but helpful. Available first-come\, first-serve until supplies run out.
URL:https://sactownsupermom.com/event/diaper-distribution-at-river-city-food-bank/
LOCATION:River City Food Bank – Arden Site\, 2300 Edison Avenue\, Sacramento\, CA\, 95821
CATEGORIES:Free
END:VEVENT
BEGIN:VEVENT
DTSTART;TZID=America/Los_Angeles:20260111T143000
DTEND;TZID=America/Los_Angeles:20260111T160000
DTSTAMP:20260421T013617
CREATED:20260107T162917Z
LAST-MODIFIED:20260107T162917Z
UID:10001319-1768141800-1768147200@sactownsupermom.com
SUMMARY:Princess & Me Royal Tea (Lincoln)
DESCRIPTION:A Princess & Me Royal Tea will take place on Sunday\, January 11\, 2026 at the Sotherton Tea Room in Lincoln. There will be treats\, tea\, and a meet-and-greet with this month’s princess. Reservations must be made by phone at (530)-305-4152. \n 
URL:https://sactownsupermom.com/event/princess-me-royal-tea-lincoln/
LOCATION:Sotherton Tea Room\, 1520 Del Webb Blvd ste c 101\, Lincoln\, CA\, 95648
CATEGORIES:Jan 9-11
END:VEVENT
BEGIN:VEVENT
DTSTART;TZID=America/Los_Angeles:20260111T140000
DTEND;TZID=America/Los_Angeles:20260111T150000
DTSTAMP:20260421T013617
CREATED:20260108T062933Z
LAST-MODIFIED:20260108T062933Z
UID:10001320-1768140000-1768143600@sactownsupermom.com
SUMMARY:Sunday Funday: Anna May Music for Kids (Davis)
DESCRIPTION:Kids can enjoy free music and dance moves at Sunday Funday: Music for Kids with Anna May on Sunday\, January 11\, 2026. This is a free event at the Mary L Stephens Davis Branch Library.
URL:https://sactownsupermom.com/event/sunday-funday-anna-may-music-for-kids-davis/
LOCATION:Mary L Stephens Davis Branch Library\, 315 E 14th St\, Davis\, CA\, 95616
CATEGORIES:Jan 9-11
END:VEVENT
BEGIN:VEVENT
DTSTART;TZID=America/Los_Angeles:20260110T170000
DTEND;TZID=America/Los_Angeles:20260110T183000
DTSTAMP:20260421T013617
CREATED:20251230T171312Z
LAST-MODIFIED:20260107T045720Z
UID:10001297-1768064400-1768069800@sactownsupermom.com
SUMMARY:Family Game Night at Space To Play
DESCRIPTION:Enjoy Family Game Night on Saturday\, January 10\, 2026 at Space To Play in Elk Grove. Play board games and eat pizza in a family-friendly play space.
URL:https://sactownsupermom.com/event/family-game-night-at-space-to-play/
LOCATION:Space To Play\, 9683 Elk Grove Florin Rd\, Elk Grove\, CA\, 95624
CATEGORIES:Elk Grove,Jan 9-11
END:VEVENT
BEGIN:VEVENT
DTSTART;TZID=America/Los_Angeles:20260110T113000
DTEND;TZID=America/Los_Angeles:20260110T123000
DTSTAMP:20260421T013617
CREATED:20260107T045059Z
LAST-MODIFIED:20260107T045059Z
UID:10001316-1768044600-1768048200@sactownsupermom.com
SUMMARY:Anniversary Weekend Storytime w/ Maysa Odeh
DESCRIPTION:To celebrate their anniversary\, A Seat at the Table Books in Elk Grove will have a free children’s storytime with author Maysa Odeh on Saturday\, January 10\, 2026. She will read her newest book\, Upside-Down Iftar. While this is a free event\, registration is required. \n\n\n 
URL:https://sactownsupermom.com/event/anniversary-weekend-storytime-w-maysa-odeh/
LOCATION:A Seat at the Table\, 9257 Laguna Springs Drive\, Elk Grove\, CA\, 95758
CATEGORIES:Jan 9-11
END:VEVENT
BEGIN:VEVENT
DTSTART;TZID=America/Los_Angeles:20260110T110000
DTEND;TZID=America/Los_Angeles:20260110T140000
DTSTAMP:20260421T013617
CREATED:20260107T163821Z
LAST-MODIFIED:20260107T163850Z
UID:10001318-1768042800-1768053600@sactownsupermom.com
SUMMARY:Polar Bear Plunge (Rancho Cordova)
DESCRIPTION:Jump into the Polar Bear Plunge on Saturday\, January 10\, 2026 in Rancho Cordova. While plungers can jump for free\, this is a fundraising event. Plungers who raise $25 for the event will receive free breakfast. Non-plungers are welcome to attend and purchase breakfast for a $10 fee.
URL:https://sactownsupermom.com/event/polar-bear-plunge-rancho-cordova/
LOCATION:Cordova Community Pool\, 2197 Chase Dr\, Rancho Cordova\, CA\, 95670
CATEGORIES:Jan 9-11
END:VEVENT
BEGIN:VEVENT
DTSTART;TZID=America/Los_Angeles:20260110T100000
DTEND;TZID=America/Los_Angeles:20260110T190000
DTSTAMP:20260421T013617
CREATED:20260107T042104Z
LAST-MODIFIED:20260107T042104Z
UID:10001314-1768039200-1768071600@sactownsupermom.com
SUMMARY:Hello Kitty Cafe - Truck Tour
DESCRIPTION:The Hello Kitty Cafe will stop at Arden Fair on Saturday\, January 10\, 2026. Visitors can enjoy Hello Kitty snacks and merchandise from the traveling cafe from 10am to 7pm in the Arden Fair parking lot.
URL:https://sactownsupermom.com/event/hello-kitty-cafe-truck-tour/
LOCATION:Arden Fair\, 1689 Arden Way\, #1167\, Sacramento\, CA\, 95815
CATEGORIES:Jan 9-11
END:VEVENT
BEGIN:VEVENT
DTSTART;TZID=America/Los_Angeles:20260110T100000
DTEND;TZID=America/Los_Angeles:20260110T133000
DTSTAMP:20260421T013617
CREATED:20251226T220159Z
LAST-MODIFIED:20260107T045639Z
UID:10001256-1768039200-1768051800@sactownsupermom.com
SUMMARY:Princess Party on Ice (Folsom)
DESCRIPTION:Ice skate with princesses at a Princess Party on Ice on Saturday\, January 10\, 2026 at the Historic Folsom ice rink. Little ones can dress up as princesses\, make their own tiara and magic mirror\, and will get to meet and take photo ops with princess characters. Princess Party on Ice takes place at the 10am and 12pm skate sessions.
URL:https://sactownsupermom.com/event/princess-party-on-ice-folsom/
LOCATION:Historic Folsom Ice Rink\, 905 Leidesdorff St #100\, Folsom\, CA\, 95630
CATEGORIES:Jan 9-11,January
END:VEVENT
BEGIN:VEVENT
DTSTART;TZID=America/Los_Angeles:20260110T100000
DTEND;TZID=America/Los_Angeles:20260110T120000
DTSTAMP:20260421T013617
CREATED:20260107T045540Z
LAST-MODIFIED:20260107T045540Z
UID:10001229-1768039200-1768046400@sactownsupermom.com
SUMMARY:Free Skate Days at the Downtown Sac Ice Rink
DESCRIPTION:Enjoy free ice skating at the Downtown Sacramento Ice Rink\, presented by the A’s. Free skate Days take place on December 27\, 2025\, and January 3 & 10\, 2026 from 10am to 12pm. There will also be an appearance from the A’s mascot\, Stomper.
URL:https://sactownsupermom.com/event/free-skate-days-at-the-downtown-sac-ice-rink-4/
LOCATION:Downtown Sacramento Ice Rink\, Ali Youssefi Square\, 7th St and K St\, Sacramento\, CA\, 95814
CATEGORIES:Ice Skating,Jan 9-11
END:VEVENT
BEGIN:VEVENT
DTSTART;TZID=America/Los_Angeles:20260110T100000
DTEND;TZID=America/Los_Angeles:20260110T120000
DTSTAMP:20260421T013617
CREATED:20251221T204859Z
LAST-MODIFIED:20251221T204859Z
UID:10001317-1768039200-1768046400@sactownsupermom.com
SUMMARY:Free Skate Days at the Downtown Sac Ice Rink
DESCRIPTION:Enjoy free ice skating at the Downtown Sacramento Ice Rink\, presented by the A’s. Free skate Days take place on December 27\, 2025\, and January 3 & 10\, 2026 from 10am to 12pm. There will also be an appearance from the A’s mascot\, Stomper.
URL:https://sactownsupermom.com/event/free-skate-days-at-the-downtown-sac-ice-rink/
LOCATION:Downtown Sacramento Ice Rink\, Ali Youssefi Square\, 7th St and K St\, Sacramento\, CA\, 95814
CATEGORIES:Ice Skating
END:VEVENT
BEGIN:VEVENT
DTSTART;TZID=America/Los_Angeles:20260110T100000
DTEND;TZID=America/Los_Angeles:20260110T110000
DTSTAMP:20260421T013617
CREATED:20251226T211524Z
LAST-MODIFIED:20251230T165353Z
UID:10001250-1768039200-1768042800@sactownsupermom.com
SUMMARY:Arts & Aircrafts (North Highlands)
DESCRIPTION:Arts & Aircrafts is a two-day program taking place on Saturdays\, January  3 & 10\, 2026 at the Recreation Center in North Highlands. Children ages 3-6 will read a book\, observe a science demonstration\, and more during this program. Parents are required to participate. The $17 fee includes both days. Registration is due by January 1\, 2026.
URL:https://sactownsupermom.com/event/arts-aircrafts-north-highlands/2026-01-10/
LOCATION:Recreation Center\, 6040 Watt Ave\, North Highlands\, CA\, 95660
CATEGORIES:North Highlands
END:VEVENT
BEGIN:VEVENT
DTSTART;TZID=America/Los_Angeles:20260104T100000
DTEND;TZID=America/Los_Angeles:20260104T180000
DTSTAMP:20260421T013617
CREATED:20251226T223948Z
LAST-MODIFIED:20251230T155058Z
UID:10001259-1767520800-1767549600@sactownsupermom.com
SUMMARY:SacAnime (Winter 2026)
DESCRIPTION:SacAnime will be in Sacramento for three days from January 2-4\, 2026. This is a family-friendly event with activities for all ages including gaming and cosplay. \nSacAnime hours vary by day: \n\nFriday – 12pm – 11pm\nSaturday – 10am – 11pm\nSunday – 10am – 6pm
URL:https://sactownsupermom.com/event/sacanime-winter-2026/2026-01-04/
LOCATION:SAFE Credit Union Convention Center\, 1301 L St\,\, Sacramento\, CA\, 95814
CATEGORIES:Anime
END:VEVENT
BEGIN:VEVENT
DTSTART;TZID=America/Los_Angeles:20260104T080000
DTEND;TZID=America/Los_Angeles:20260104T200000
DTSTAMP:20260421T013617
CREATED:20251226T210323Z
LAST-MODIFIED:20251226T210343Z
UID:10001248-1767513600-1767556800@sactownsupermom.com
SUMMARY:Jurassic Quest at Cal Expo
DESCRIPTION:Kids who love dinosaurs will want to head to Cal Expo for a dino-mite time at Jurassic Quest on Saturday & Sunday\, January 3 & 4\, 2026. There will be fossil digs\, a walk-through dinosaur experience\, rideable dinos\, and more. A sensory & mobility-friendly session will occur on Sunday from 8am to 9am.
URL:https://sactownsupermom.com/event/jurassic-quest-at-cal-expo/2026-01-04/
LOCATION:Cal Expo\, 1600 Exposition Boulevard\, Sacramento\, CA\, 95815
CATEGORIES:Cal Expo
END:VEVENT
BEGIN:VEVENT
DTSTART;TZID=America/Los_Angeles:20260103T140000
DTEND;TZID=America/Los_Angeles:20260103T153000
DTSTAMP:20260421T013617
CREATED:20251229T055940Z
LAST-MODIFIED:20251229T055940Z
UID:10001294-1767448800-1767454200@sactownsupermom.com
SUMMARY:Squirrel Appreciation Party
DESCRIPTION:Celebration National Squirrel Day with a free Squirrel Appreciation Day on Saturday\, January 3\, 2026 at the Arcade Library. No live squirrels will be in attendance but there will be snacks and hands-on activities like squirrel hats\, squirrel pop-up cards\, squirrel suncatchers\, and mini squirrel houses. Kids of all ages may attend but the event will be geared toward elementary-aged students.
URL:https://sactownsupermom.com/event/squirrel-appreciation-party/
LOCATION:Arcade Library\, 2443 Marconi Avenue\, Sacramento\, CA\, 95821
CATEGORIES:Jan 2-5,Sacramento Library
END:VEVENT
BEGIN:VEVENT
DTSTART;TZID=America/Los_Angeles:20260101T180000
DTEND;TZID=America/Los_Angeles:20260101T193000
DTSTAMP:20260421T013617
CREATED:20251221T234751Z
LAST-MODIFIED:20251221T234804Z
UID:10001233-1767290400-1767295800@sactownsupermom.com
SUMMARY:Kids Pizza Making Class at The BLVD!
DESCRIPTION:The BLVD! in West Sacramento will have Kids Pizza Making Classes on December 30\, 2025 and January 1\, 2026. Two sessions will take place at 11am and 6pm. Kids will get to create a pizza and make their own ice cream sundae. A $15 game card for the arcades is also included with the workshop.
URL:https://sactownsupermom.com/event/kids-pizza-making-class/2026-01-01/2/
LOCATION:The Blvd!\, 1298 W Capitol Ave\, West Sacramento\, CA\, 95691
CATEGORIES:Food
END:VEVENT
BEGIN:VEVENT
DTSTART;TZID=America/Los_Angeles:20251231T180000
DTEND;TZID=America/Los_Angeles:20260101T010000
DTSTAMP:20260421T013617
CREATED:20251226T214930Z
LAST-MODIFIED:20251229T214210Z
UID:10001255-1767204000-1767229200@sactownsupermom.com
SUMMARY:Golfland New Year's Eve Party
DESCRIPTION:Welcome 2026 by having fun with the family at Golfland’s New Year’s Eve party on Wednesday\, December 31\, 2025. Enjoy mini-golf\, video games\, go-karts\, laser tag\, and a dance floor from 6pm to 1am. Pre-purchase $39.99 tickets online (which increase to $45 at the door).
URL:https://sactownsupermom.com/event/golfland-new-years-eve-party/
LOCATION:Roseville Golfland Sunsplash\, 1893 Taylor Road\, Roseville\, CA\, 95661
CATEGORIES:Roseville
END:VEVENT
BEGIN:VEVENT
DTSTART;TZID=America/Los_Angeles:20251231T180000
DTEND;TZID=America/Los_Angeles:20251231T183000
DTSTAMP:20260421T013617
CREATED:20251220T165417Z
LAST-MODIFIED:20251220T165417Z
UID:10001221-1767204000-1767205800@sactownsupermom.com
SUMMARY:2026 Noon Year's Eve at Enchanted Elk Grove
DESCRIPTION:Celebrate 2026 at a Noon Year’s Eve balloon drop for kids on Wednesday\, December 31\, 2025 at Enchanted Elk Grove. A balloon drop and dance party will take place at 12pm and 6pm. Noon Year’s Eve is included with regular open play admission.
URL:https://sactownsupermom.com/event/2026-noon-years-eve-at-enchanted-elk-grove-2/
LOCATION:Enchanted Elk Grove\, 10481 Grant Line Road # 155\, Elk Grove\, CA\, 95624
CATEGORIES:Elk Grove
END:VEVENT
BEGIN:VEVENT
DTSTART;TZID=America/Los_Angeles:20251231T170000
DTEND;TZID=America/Los_Angeles:20251231T220000
DTSTAMP:20260421T013617
CREATED:20251223T165211Z
LAST-MODIFIED:20251223T165211Z
UID:10001243-1767200400-1767218400@sactownsupermom.com
SUMMARY:Countdown on the Cobblestones
DESCRIPTION:Countdown on the Cobblestones returns to Old Sacramento on New Year’s Eve\, Wednesday\, December 31\, 2025. This family-friendly NYE celebration will include fireworks at 9pm. There will also be interactive activities and live music from 5 to 10pm.
URL:https://sactownsupermom.com/event/countdown-on-the-cobblestones/
LOCATION:Old Sacramento Waterfront\, Sacramento\, CA
CATEGORIES:December,Noon Year's Eve
END:VEVENT
BEGIN:VEVENT
DTSTART;TZID=America/Los_Angeles:20251231T160000
DTEND;TZID=America/Los_Angeles:20251231T190000
DTSTAMP:20260421T013617
CREATED:20251222T045630Z
LAST-MODIFIED:20251222T045630Z
UID:10001239-1767196800-1767207600@sactownsupermom.com
SUMMARY:Celebrate NYE Early at Dave & Buster's Folsom
DESCRIPTION:Dave & Buster’s Folsom will have a family-friendly early NYE celebration on Wednesday\, December 31\, 2025 from 4-7pm. The celebration will include an appetizer banquet\, mini churros\, ginger ale toast\, unlimited video game play\, and a $20 power card.
URL:https://sactownsupermom.com/event/celebrate-nye-early-at-dave-busters-folsom/
LOCATION:Davs & Buster’s Folsom\, 430 Palladio Pkwy #1817\, Folsom\, CA\, 95630
CATEGORIES:Noon Year's Eve
END:VEVENT
BEGIN:VEVENT
DTSTART;TZID=America/Los_Angeles:20251231T130000
DTEND;TZID=America/Los_Angeles:20251231T160000
DTSTAMP:20260421T013617
CREATED:20251230T164917Z
LAST-MODIFIED:20251230T164926Z
UID:10001295-1767186000-1767196800@sactownsupermom.com
SUMMARY:Kids NYE Silent Disco (Folsom)
DESCRIPTION:Dance your way into 2026 at a Kids NYE Silent Disco on Wednesday\, December 31\, 2025 at Uncle Charlie’s Firehouse & Brew in Folsom. For $15\, kids will receive pizza and get to enjoy a silent disco party during the day on New Year’s Eve.
URL:https://sactownsupermom.com/event/kids-nye-silent-disco/
LOCATION:Uncle Charlie’s Firehouse & Brew\, 905 Leidesdorff St #100\, Folsom\, CA\, 95630
CATEGORIES:Noon Year's Eve
END:VEVENT
BEGIN:VEVENT
DTSTART;TZID=America/Los_Angeles:20251231T120000
DTEND;TZID=America/Los_Angeles:20251231T160000
DTSTAMP:20260421T013617
CREATED:20251222T044901Z
LAST-MODIFIED:20251222T044901Z
UID:10001238-1767182400-1767196800@sactownsupermom.com
SUMMARY:Noon Year's Eve at Roller King
DESCRIPTION:Skate into 2026 at Noon Year’s Eve at Roller King in Roseville. There will be a countdown\, balloon drop\, and prizes. The $25 admission fee includes roller skate rental.
URL:https://sactownsupermom.com/event/noon-years-eve-at-roller-king/
LOCATION:Roller King Skating Center\, 889 Riverside Avenue\, Roseville\, CA\, 95678
CATEGORIES:Noon Year's Eve
END:VEVENT
BEGIN:VEVENT
DTSTART;TZID=America/Los_Angeles:20251231T113000
DTEND;TZID=America/Los_Angeles:20251231T123000
DTSTAMP:20260421T013617
CREATED:20251221T171202Z
LAST-MODIFIED:20251221T171343Z
UID:10001222-1767180600-1767184200@sactownsupermom.com
SUMMARY:Noon Year's Eve (West Sacramento)
DESCRIPTION:The Arthur F Turner Community Library in West Sacramento will have a free Noon Year’s Eve party for kids on Wednesday\, December 31\, 2025. There will be music\, dancing\, sparkling juice\, a photo booth\, and a countdown to noon. \n 
URL:https://sactownsupermom.com/event/noon-years-eve-west-sacramento/
LOCATION:Arthur F. Turner Community Library\, 1212 Merkley Avenue\, West Sacramento\, CA\, 95691
CATEGORIES:Noon Year's Eve
END:VEVENT
BEGIN:VEVENT
DTSTART;TZID=America/Los_Angeles:20251231T111500
DTEND;TZID=America/Los_Angeles:20251231T123000
DTSTAMP:20260421T013617
CREATED:20251226T154614Z
LAST-MODIFIED:20251226T154614Z
UID:10001245-1767179700-1767184200@sactownsupermom.com
SUMMARY:Countdown to Noon Year's Eve
DESCRIPTION:Celebrate the start of 2026 at Countdown to Noon Year’s Eve at The Little Gym in Elk Grove on Wednesday\, December 31\, 2025. Kids will get to enjoy storytime\, crafts\, and tumble in the gym before counting down to a ball drop at noon. Non-members are welcome.
URL:https://sactownsupermom.com/event/countdown-to-noon-years-eve/
LOCATION:The Little Gym of Elk Grove\, 9163 East Stockton Boulevard #SPACE 340\, Elk Grove\, CA\, 95624
CATEGORIES:Noon Year's Eve
END:VEVENT
BEGIN:VEVENT
DTSTART;TZID=America/Los_Angeles:20251231T110000
DTEND;TZID=America/Los_Angeles:20251231T130000
DTSTAMP:20260421T013617
CREATED:20251222T043235Z
LAST-MODIFIED:20251222T043235Z
UID:10001236-1767178800-1767186000@sactownsupermom.com
SUMMARY:BusyKids Noon Year's Eve Party
DESCRIPTION:BusyKids in Folsom will have its annual Noon Year’s Eve Party on Wednesday\, December 31\, 2025. Kids will enjoy a countdown with confetti and balloons. There will be crafts\, treats\, and open play.
URL:https://sactownsupermom.com/event/busykids-noon-years-eve-party/
LOCATION:BusyKids\, 1014 Riley St\, Folsom\, CA\, 95630
CATEGORIES:Noon Year's Eve
END:VEVENT
END:VCALENDAR