BEGIN:VCALENDAR
VERSION:2.0
PRODID:-//Sactown Supermom - ECPv6.15.20//NONSGML v1.0//EN
CALSCALE:GREGORIAN
METHOD:PUBLISH
X-ORIGINAL-URL:https://sactownsupermom.com
X-WR-CALDESC:Events for Sactown Supermom
REFRESH-INTERVAL;VALUE=DURATION:PT1H
X-Robots-Tag:noindex
X-PUBLISHED-TTL:PT1H
BEGIN:VTIMEZONE
TZID:America/Los_Angeles
BEGIN:DAYLIGHT
TZOFFSETFROM:-0800
TZOFFSETTO:-0700
TZNAME:PDT
DTSTART:20240310T100000
END:DAYLIGHT
BEGIN:STANDARD
TZOFFSETFROM:-0700
TZOFFSETTO:-0800
TZNAME:PST
DTSTART:20241103T090000
END:STANDARD
BEGIN:DAYLIGHT
TZOFFSETFROM:-0800
TZOFFSETTO:-0700
TZNAME:PDT
DTSTART:20250309T100000
END:DAYLIGHT
BEGIN:STANDARD
TZOFFSETFROM:-0700
TZOFFSETTO:-0800
TZNAME:PST
DTSTART:20251102T090000
END:STANDARD
BEGIN:DAYLIGHT
TZOFFSETFROM:-0800
TZOFFSETTO:-0700
TZNAME:PDT
DTSTART:20260308T100000
END:DAYLIGHT
BEGIN:STANDARD
TZOFFSETFROM:-0700
TZOFFSETTO:-0800
TZNAME:PST
DTSTART:20261101T090000
END:STANDARD
BEGIN:DAYLIGHT
TZOFFSETFROM:-0800
TZOFFSETTO:-0700
TZNAME:PDT
DTSTART:20270314T100000
END:DAYLIGHT
BEGIN:STANDARD
TZOFFSETFROM:-0700
TZOFFSETTO:-0800
TZNAME:PST
DTSTART:20271107T090000
END:STANDARD
END:VTIMEZONE
BEGIN:VEVENT
DTSTART;TZID=America/Los_Angeles:20260314T113000
DTEND;TZID=America/Los_Angeles:20260314T133000
DTSTAMP:20260421T024325
CREATED:20260224T004736Z
LAST-MODIFIED:20260312T021502Z
UID:10001487-1773487800-1773495000@sactownsupermom.com
SUMMARY:St. Patrick’s Day Parade in Old Sacramento
DESCRIPTION:Don your green and head to the Old Sacramento Waterfront for its annual St. Patrick’s Day Parade on Saturday\, March 14\, 2026. The parade kicks off at 12:30pm. \nPre-parade performances will occur from 11:30am to 12:30pm. The parade time is scheduled for 12:30pm to 1:30pm. \nKids may enjoy chasing leprechauns as they embark on a Leprechaun Hunt throughout Old Sacramento that’s open to all ages. Activity books can be picked up in the Old Sacramento Waterfront Visitor Center at 1000 2nd Street.
URL:https://sactownsupermom.com/event/st-patricks-day-parade-in-old-sacramento-2/
LOCATION:Old Sacramento Waterfront\, Sacramento\, CA
CATEGORIES:March,March 13-15,Old Sacramento,St. Patrick's Day
END:VEVENT
BEGIN:VEVENT
DTSTART;TZID=America/Los_Angeles:20251126T171500
DTEND;TZID=America/Los_Angeles:20251126T184500
DTSTAMP:20260421T024325
CREATED:20251114T044925Z
LAST-MODIFIED:20251114T044925Z
UID:10001020-1764177300-1764182700@sactownsupermom.com
SUMMARY:Old Sacramento Tree Lighting Ceremony & Theatre of Lights Opening Night
DESCRIPTION:The Old Sacramento Waterfront Tree Lighting takes place on Thanksgiving Eve\, Wednesday\, November 26\, 2025. Festivities will begin at 5:30pm. The first Theatre of Lights show of 2025 will follow the tree lighting and kicks off at 6:15pm. Theatre of Lights is a 20-minute free production.
URL:https://sactownsupermom.com/event/old-sacramento-tree-lighting-ceremony-theatre-of-lights-opening-night/
LOCATION:Old Sacramento Waterfront\, Sacramento\, CA
CATEGORIES:November,Old Sacramento
END:VEVENT
BEGIN:VEVENT
DTSTART;TZID=America/Los_Angeles:20251031T180000
DTEND;TZID=America/Los_Angeles:20251031T220000
DTSTAMP:20260421T024325
CREATED:20250921T021831Z
LAST-MODIFIED:20251001T215856Z
UID:10000678-1761933600-1761948000@sactownsupermom.com
SUMMARY:Movies Under the Stars
DESCRIPTION:Get in the Halloween spirit by watching family-friendly\, Halloween-themed Movies Under the Stars in Old Sacramento every Thursday and Friday in October. \nHeadphones for the movies are provided. Prices range based on seat selections. Movies begin at sundown. \nA 2025 schedule of Movies Under the Stars is below – \n\nOctober 2 – Goonies\nOctober 3 – Practical Magic\nOctober 9 – Coco\nOctober 10 – Little Shop of Horrors\nOctober 16 & 17 – Hocus Pocus\nOctober 23 – Monsters\, Inc. \nOctober 24 – Ghostbusters\nOctober 30 – Beetlejuice\nOctober 31 – The Sixth Sense (This one may not be as kid-friendly) 
URL:https://sactownsupermom.com/event/movies-under-the-stars/2025-10-31/
LOCATION:Old Sacramento State Historic Park\, 111 I Street\, Sacramento\, CA\, 95814
CATEGORIES:Old Sacramento
END:VEVENT
BEGIN:VEVENT
DTSTART;TZID=America/Los_Angeles:20251003T100000
DTEND;TZID=America/Los_Angeles:20251003T220000
DTSTAMP:20260421T024325
CREATED:20250930T040521Z
LAST-MODIFIED:20251001T042823Z
UID:10000787-1759485600-1759528800@sactownsupermom.com
SUMMARY:Taylor Swift Day at Underground Mini Golf
DESCRIPTION:To celebrate Taylor Swift’s new album\, Underground Mini Golf in Old Sacramento will be playing Taylor Swift music all day on Friday\, October 3\, 2025. The new Taylor Swift album\, The Life of a Show Girl\, will begin playing at 3pm.
URL:https://sactownsupermom.com/event/taylor-swift-day-at-underground-mini-golf/
LOCATION:Underground Mini Golf\, 1028 2nd Street\, Sacramento\, CA\, 95814
CATEGORIES:Oct 3-5,Old Sacramento
END:VEVENT
BEGIN:VEVENT
DTSTART;TZID=America/Los_Angeles:20250830T100000
DTEND;TZID=America/Los_Angeles:20250901T140000
DTSTAMP:20260421T024325
CREATED:20250820T051606Z
LAST-MODIFIED:20250820T051606Z
UID:10000539-1756548000-1756735200@sactownsupermom.com
SUMMARY:"You Can Do It" Days
DESCRIPTION:Join the Sacramento History Museum for their final days of their Sacramento in a Can exhibit. “You Can Do It” Days will occur over Labor Day Weekend from August 30 – September 1\, 2025. Families can participate in various activities from designing a can label to a selfie with Sacratomato. \nGet a passport during the event and participate in the following activities: \n\nDesign a can label for your favorite food\nPlant a canning vegetable to take home to your garden\nCreate a felt tomato keychain\nColor a print from the museum’s historic press\nTake selfies with Sacratomato and other canned veggie characters\n\nThis event will take place each day from 10am to 2pm and is included with regular museum admission.
URL:https://sactownsupermom.com/event/you-can-do-it-days/
LOCATION:Sacramento History Museum\, 101 I Street\, Old Sacramento\, CA\, 95814
CATEGORIES:August,Museums,Old Sacramento
END:VEVENT
BEGIN:VEVENT
DTSTART;TZID=America/Los_Angeles:20250704T173000
DTEND;TZID=America/Los_Angeles:20250704T193000
DTSTAMP:20260421T024325
CREATED:20250620T044438Z
LAST-MODIFIED:20250622T143346Z
UID:10000372-1751650200-1751657400@sactownsupermom.com
SUMMARY:4th of July Sights & Sips Cruise
DESCRIPTION:Set sail on the 4th of July on a family-friendly cruise along the Sacramento River\, taking in scenic sights from the water. \nTwo cruises will take place on July 4\, 2025\, and each will have a duration of 1.5 hours. Boarding takes place 30 minutes before cruise departure. \nThere will also be a live DJ and small bites will be available for purchase. \nMeeting location for the cruises:\n1207 Front Street\nSacramento\, CA\nbetween K and L Street – the L Street Dock \nKids ages 3 and under are free.
URL:https://sactownsupermom.com/event/4th-of-july-sights-sips-cruise/
LOCATION:1207 Front Street\, Sacramento\, CA\, 95814
CATEGORIES:Old Sacramento
END:VEVENT
BEGIN:VEVENT
DTSTART;TZID=America/Los_Angeles:20250516T170000
DTEND;TZID=America/Los_Angeles:20250516T193000
DTSTAMP:20260421T024325
CREATED:20250425T213228Z
LAST-MODIFIED:20250425T213228Z
UID:10000224-1747414800-1747423800@sactownsupermom.com
SUMMARY:The Promenade of Mermaids
DESCRIPTION:The free Promenade of Mermaids will take place on Friday\, May 16\, 2025. The family-friendly march will take place in Old Sacramento. \nThe march will begin from the Embarcadero in Old Sacramento. \nThe Promenade of Mermaids schedule is below: \n\n5pm – Activities include hair braiding\, face painting\, bubble show\, and vendors\n5:30pm – Flash mob with the Abalone Merman\n6pm – The Promenade of Mermaids march begins\n6:15pm – Dance party to take place on the boardwalk\n7:30pm – Event ends
URL:https://sactownsupermom.com/event/the-promenade-of-mermaids/
LOCATION:Old Sacramento Waterfront\, Sacramento\, CA
CATEGORIES:Old Sacramento
END:VEVENT
END:VCALENDAR