BEGIN:VCALENDAR
VERSION:2.0
PRODID:-//Sactown Supermom - ECPv6.15.20//NONSGML v1.0//EN
CALSCALE:GREGORIAN
METHOD:PUBLISH
X-WR-CALNAME:Sactown Supermom
X-ORIGINAL-URL:https://sactownsupermom.com
X-WR-CALDESC:Events for Sactown Supermom
REFRESH-INTERVAL;VALUE=DURATION:PT1H
X-Robots-Tag:noindex
X-PUBLISHED-TTL:PT1H
BEGIN:VTIMEZONE
TZID:America/Los_Angeles
BEGIN:DAYLIGHT
TZOFFSETFROM:-0800
TZOFFSETTO:-0700
TZNAME:PDT
DTSTART:20240310T100000
END:DAYLIGHT
BEGIN:STANDARD
TZOFFSETFROM:-0700
TZOFFSETTO:-0800
TZNAME:PST
DTSTART:20241103T090000
END:STANDARD
BEGIN:DAYLIGHT
TZOFFSETFROM:-0800
TZOFFSETTO:-0700
TZNAME:PDT
DTSTART:20250309T100000
END:DAYLIGHT
BEGIN:STANDARD
TZOFFSETFROM:-0700
TZOFFSETTO:-0800
TZNAME:PST
DTSTART:20251102T090000
END:STANDARD
BEGIN:DAYLIGHT
TZOFFSETFROM:-0800
TZOFFSETTO:-0700
TZNAME:PDT
DTSTART:20260308T100000
END:DAYLIGHT
BEGIN:STANDARD
TZOFFSETFROM:-0700
TZOFFSETTO:-0800
TZNAME:PST
DTSTART:20261101T090000
END:STANDARD
END:VTIMEZONE
BEGIN:VEVENT
DTSTART;TZID=America/Los_Angeles:20251004T130000
DTEND;TZID=America/Los_Angeles:20251004T150000
DTSTAMP:20260421T095622
CREATED:20250927T234331Z
LAST-MODIFIED:20251001T043214Z
UID:10000775-1759582800-1759590000@sactownsupermom.com
SUMMARY:Fall Foam Party in Folsom
DESCRIPTION:Folsom will be bursting with fun at the Fall Foam Party on Saturday\, October 4\, 2025. This free\, family-friendly event will have foam cannons\, face painting\, balloon twisting\, and a a candy lane in the Folsom Central & Folsom Faire Shopping Centers.
URL:https://sactownsupermom.com/event/fall-foam-party-in-folsom/
LOCATION:Glenn Drive at Riley Street and E. Bidwell Street\, Folsom\, CA\, 95630
CATEGORIES:Oct 3-5,October
END:VEVENT
BEGIN:VEVENT
DTSTART;TZID=America/Los_Angeles:20251004T110000
DTEND;TZID=America/Los_Angeles:20251005T150000
DTSTAMP:20260421T095622
CREATED:20250922T231851Z
LAST-MODIFIED:20251001T043127Z
UID:10000710-1759575600-1759676400@sactownsupermom.com
SUMMARY:Pumpkin Patch Express
DESCRIPTION:Chug along the tracks of the Sacramento Valley Live Steamers for the Pumpkin Patch Express in Rancho Cordova on October 4-5\, 2025. The price includes unlimited train rides\, bounce houses\, and more fun activities for kids. Pumpkins will be available for purchase for $5. Kids 2 and under are free.
URL:https://sactownsupermom.com/event/pumpkin-patch-express/
LOCATION:Hagan Community Park\, 2197 Chase Dr\, Rancho Cordova\, CA\, 95670
CATEGORIES:Oct 3-5,October
END:VEVENT
BEGIN:VEVENT
DTSTART;TZID=America/Los_Angeles:20251004T100000
DTEND;TZID=America/Los_Angeles:20251005T170000
DTSTAMP:20260421T095622
CREATED:20250831T151652Z
LAST-MODIFIED:20251001T043041Z
UID:10000636-1759572000-1759683600@sactownsupermom.com
SUMMARY:Elk Grove Giant Pumpkin Festival
DESCRIPTION:The Annual Elk Grove Giant Pumpkin Festival returns the first weekend in October on October 4 & 5\, 2025. This fall festival is a yearly staple at Elk Grove Regional Park. A highlight is the Pumpkin Regatta where pumpkin growers race in canoes made out of giant pumpkins they grew. The pumpkins are then dropped from a crane and make a big splash into the lake. It’s a fun and exciting way to celebrate fall. \nThere are also many amusement rides for families\, and interactive activities at vendor booths. The pumpkin village also has many decorated pumpkin houses and decor for fall photo ops. Lots of food is available for purchase on-site. \nWhile this is a free event\, parking for the event costs $20.
URL:https://sactownsupermom.com/event/elk-grove-giant-pumpkin-festival/
LOCATION:Elk Grove Regional Park\, 9950 Elk Grove Florin Road\, Elk Grove\, CA\, 95624\, United States
CATEGORIES:Fall Festivals,Oct 3-5,October
END:VEVENT
BEGIN:VEVENT
DTSTART;TZID=America/Los_Angeles:20251004T090000
DTEND;TZID=America/Los_Angeles:20251004T150000
DTSTAMP:20260421T095622
CREATED:20250901T031738Z
LAST-MODIFIED:20251001T042911Z
UID:10000644-1759568400-1759590000@sactownsupermom.com
SUMMARY:OAKtober Festival
DESCRIPTION:Celebrate fall at the free OAKtober Festival on Saturday\, October 4\, 2025 at the Maidu Museum in Roseville. This family-friendly event will have crafts for kids\, a pumpkin patch\, games\, acorn pounding\, and museum access.
URL:https://sactownsupermom.com/event/oaktober-festival/
LOCATION:Maidu Museum & Historic Site\, 1970 Johnson Ranch Drive\, Roseville\, CA\, 95661
CATEGORIES:Fall Festivals,Oct 3-5,October
END:VEVENT
END:VCALENDAR