BEGIN:VCALENDAR
VERSION:2.0
PRODID:-//Sactown Supermom - ECPv6.15.20//NONSGML v1.0//EN
CALSCALE:GREGORIAN
METHOD:PUBLISH
X-ORIGINAL-URL:https://sactownsupermom.com
X-WR-CALDESC:Events for Sactown Supermom
REFRESH-INTERVAL;VALUE=DURATION:PT1H
X-Robots-Tag:noindex
X-PUBLISHED-TTL:PT1H
BEGIN:VTIMEZONE
TZID:America/Los_Angeles
BEGIN:DAYLIGHT
TZOFFSETFROM:-0800
TZOFFSETTO:-0700
TZNAME:PDT
DTSTART:20250309T100000
END:DAYLIGHT
BEGIN:STANDARD
TZOFFSETFROM:-0700
TZOFFSETTO:-0800
TZNAME:PST
DTSTART:20251102T090000
END:STANDARD
BEGIN:DAYLIGHT
TZOFFSETFROM:-0800
TZOFFSETTO:-0700
TZNAME:PDT
DTSTART:20260308T100000
END:DAYLIGHT
BEGIN:STANDARD
TZOFFSETFROM:-0700
TZOFFSETTO:-0800
TZNAME:PST
DTSTART:20261101T090000
END:STANDARD
BEGIN:DAYLIGHT
TZOFFSETFROM:-0800
TZOFFSETTO:-0700
TZNAME:PDT
DTSTART:20270314T100000
END:DAYLIGHT
BEGIN:STANDARD
TZOFFSETFROM:-0700
TZOFFSETTO:-0800
TZNAME:PST
DTSTART:20271107T090000
END:STANDARD
END:VTIMEZONE
BEGIN:VEVENT
DTSTART;TZID=America/Los_Angeles:20260322T140000
DTEND;TZID=America/Los_Angeles:20260322T160000
DTSTAMP:20260421T011411
CREATED:20260308T025557Z
LAST-MODIFIED:20260308T025557Z
UID:10001556-1774188000-1774195200@sactownsupermom.com
SUMMARY:2X Monster Trucks Tour (Auburn)
DESCRIPTION:The 2X Monster Trucks Tour will be in Auburn for two days on March 21 & 22\, 2026\, bringing the action to the Gold Country Fairgrounds & Event Center. Expect high-octane monster truck thrills and FMX stunts.
URL:https://sactownsupermom.com/event/2x-monster-trucks-tour-auburn/2026-03-22/
LOCATION:Gold Country Fairgrounds & Event Center\, 209 Fairgate Rd\, Auburn\, CA\, 95603
CATEGORIES:Monster Trucks
END:VEVENT
END:VCALENDAR