BEGIN:VCALENDAR
VERSION:2.0
PRODID:-//Sactown Supermom - ECPv6.15.20//NONSGML v1.0//EN
CALSCALE:GREGORIAN
METHOD:PUBLISH
X-ORIGINAL-URL:https://sactownsupermom.com
X-WR-CALDESC:Events for Sactown Supermom
REFRESH-INTERVAL;VALUE=DURATION:PT1H
X-Robots-Tag:noindex
X-PUBLISHED-TTL:PT1H
BEGIN:VTIMEZONE
TZID:America/Los_Angeles
BEGIN:DAYLIGHT
TZOFFSETFROM:-0800
TZOFFSETTO:-0700
TZNAME:PDT
DTSTART:20240310T100000
END:DAYLIGHT
BEGIN:STANDARD
TZOFFSETFROM:-0700
TZOFFSETTO:-0800
TZNAME:PST
DTSTART:20241103T090000
END:STANDARD
BEGIN:DAYLIGHT
TZOFFSETFROM:-0800
TZOFFSETTO:-0700
TZNAME:PDT
DTSTART:20250309T100000
END:DAYLIGHT
BEGIN:STANDARD
TZOFFSETFROM:-0700
TZOFFSETTO:-0800
TZNAME:PST
DTSTART:20251102T090000
END:STANDARD
BEGIN:DAYLIGHT
TZOFFSETFROM:-0800
TZOFFSETTO:-0700
TZNAME:PDT
DTSTART:20260308T100000
END:DAYLIGHT
BEGIN:STANDARD
TZOFFSETFROM:-0700
TZOFFSETTO:-0800
TZNAME:PST
DTSTART:20261101T090000
END:STANDARD
BEGIN:DAYLIGHT
TZOFFSETFROM:-0800
TZOFFSETTO:-0700
TZNAME:PDT
DTSTART:20270314T100000
END:DAYLIGHT
BEGIN:STANDARD
TZOFFSETFROM:-0700
TZOFFSETTO:-0800
TZNAME:PST
DTSTART:20271107T090000
END:STANDARD
END:VTIMEZONE
BEGIN:VEVENT
DTSTART;TZID=America/Los_Angeles:20260119T080000
DTEND;TZID=America/Los_Angeles:20260119T120000
DTSTAMP:20260421T054729
CREATED:20251228T030835Z
LAST-MODIFIED:20260115T050508Z
UID:10001261-1768809600-1768824000@sactownsupermom.com
SUMMARY:The 44th Annual March For The Dream
DESCRIPTION:The March for the Dream honors Martin Luther King\, Jr. The March kicks off at Sacramento City College on Monday\, January 19\, 2026\, starting at Sacramento City College and ending at SAFE Convention Center. Dress comfortably for chilly morning weather. The March is a 4.6-mile route. \nEvent Details: \n\nArrive By: 8am\nProgram Begins: 8:30am\nMarch Departs: 9:15am\n\nRegional transit buses will take marchers back to the point of origin of the march.
URL:https://sactownsupermom.com/event/march-for-the-dream-2026/
LOCATION:Sacramento City College\, 3835 Freeport Blvd\, Sacramento\, CA\, 95822
CATEGORIES:Jan 16-19,January,MLK
END:VEVENT
BEGIN:VEVENT
DTSTART;TZID=America/Los_Angeles:20250120T080000
DTEND;TZID=America/Los_Angeles:20250120T080000
DTSTAMP:20260421T054729
CREATED:20241217T171846Z
LAST-MODIFIED:20250108T045516Z
UID:10000004-1737360000-1737360000@sactownsupermom.com
SUMMARY:The 43rd Annual March For The Dream
DESCRIPTION:The March for the Dream honors Martin Luther King\, Jr. The March kicks off at Sacramento City College on January 20\, 2025\, starting in the parking lot between the college and Hughes Stadium.Dress comfortably for chilly morning weather. The March is a 4-mile route. \nEvent Details: \n\nArrive By: 8am\nProgram Begins: 8:30am\nMarch Departs: 9:15am\n\nRoute Details for The March: \n\nStarting Point: Sacramento City College\nLeft on 13th Avenue to Land Park Drive\nRight on Land Park Drive to Broadway\nRight on Broadway to 19th Street/Freeport Blvd\nRight on Freeport Blvd\, returning to Sacramento City College\nEnding Point: Back at Sacramento City College
URL:https://sactownsupermom.com/event/the-43rd-annual-march-for-the-dream/
LOCATION:Sacramento City College\, 3835 Freeport Blvd\, Sacramento\, CA\, 95822
CATEGORIES:MLK
END:VEVENT
END:VCALENDAR