BEGIN:VCALENDAR
VERSION:2.0
PRODID:-//Sactown Supermom - ECPv6.15.20//NONSGML v1.0//EN
CALSCALE:GREGORIAN
METHOD:PUBLISH
X-ORIGINAL-URL:https://sactownsupermom.com
X-WR-CALDESC:Events for Sactown Supermom
REFRESH-INTERVAL;VALUE=DURATION:PT1H
X-Robots-Tag:noindex
X-PUBLISHED-TTL:PT1H
BEGIN:VTIMEZONE
TZID:America/Los_Angeles
BEGIN:DAYLIGHT
TZOFFSETFROM:-0800
TZOFFSETTO:-0700
TZNAME:PDT
DTSTART:20240310T100000
END:DAYLIGHT
BEGIN:STANDARD
TZOFFSETFROM:-0700
TZOFFSETTO:-0800
TZNAME:PST
DTSTART:20241103T090000
END:STANDARD
BEGIN:DAYLIGHT
TZOFFSETFROM:-0800
TZOFFSETTO:-0700
TZNAME:PDT
DTSTART:20250309T100000
END:DAYLIGHT
BEGIN:STANDARD
TZOFFSETFROM:-0700
TZOFFSETTO:-0800
TZNAME:PST
DTSTART:20251102T090000
END:STANDARD
BEGIN:DAYLIGHT
TZOFFSETFROM:-0800
TZOFFSETTO:-0700
TZNAME:PDT
DTSTART:20260308T100000
END:DAYLIGHT
BEGIN:STANDARD
TZOFFSETFROM:-0700
TZOFFSETTO:-0800
TZNAME:PST
DTSTART:20261101T090000
END:STANDARD
END:VTIMEZONE
BEGIN:VEVENT
DTSTART;TZID=America/Los_Angeles:20251221T170000
DTEND;TZID=America/Los_Angeles:20251221T200000
DTSTAMP:20260421T055843
CREATED:20251210T050946Z
LAST-MODIFIED:20251210T050955Z
UID:10001194-1766336400-1766347200@sactownsupermom.com
SUMMARY:River Park Holiday Lights Competition
DESCRIPTION:The River Park Holiday Lights Competition will take place on December 20 & 21\, 2025. Pick up a route map and voting ballot from the cocoa and cider station at 5809 Callister. Walk the route to vote for your favorite houses in holiday lights in 3 different categories. Santa will also be at the event on Saturday\, December 20\, 2025.
URL:https://sactownsupermom.com/event/river-park-holiday-lights-competition/2025-12-21/
LOCATION:5809 Callister Ave\, Sacramento\, CA\, 95819
CATEGORIES:Free Holidays,Holidays
END:VEVENT
BEGIN:VEVENT
DTSTART;TZID=America/Los_Angeles:20251221T110000
DTEND;TZID=America/Los_Angeles:20251221T120000
DTSTAMP:20260421T055843
CREATED:20251217T075050Z
LAST-MODIFIED:20251217T075050Z
UID:10001210-1766314800-1766318400@sactownsupermom.com
SUMMARY:Meet Santa at Wild Sisters Book Co
DESCRIPTION:Kids will get to meet Santa for free on Sunday\, December 21\, 2025 at Wild Sisters Book Co. Special guests Buddy the Elf and Mrs Claus will be joining in on the festive fun.
URL:https://sactownsupermom.com/event/meet-santa-at-wild-sisters-book-co/
LOCATION:Wild Sisters Book Company\, 3325 Folsom Blvd.\, Sacramento\, CA\, 95816
CATEGORIES:Dec 19-21,Free Holidays
END:VEVENT
BEGIN:VEVENT
DTSTART;TZID=America/Los_Angeles:20251220T180000
DTEND;TZID=America/Los_Angeles:20251220T210000
DTSTAMP:20260421T055843
CREATED:20251218T000731Z
LAST-MODIFIED:20251218T000731Z
UID:10001183-1766253600-1766264400@sactownsupermom.com
SUMMARY:Santa's Christmas Cottage in Historic Folsom (Cancelled)
DESCRIPTION:For one of the best free photos with Santa in Sacramento\, head to Santa’s Christmas Cottage in Historic Folsom next to the ice rink. Take photos with your own camera and enjoy this festive atmosphere with Santa\, Mrs Claus\, Rudolph\, and other holiday characters. Santa’s Christmas Cottage is open in 2025 on Friday and Saturday evenings in December from 6-9pm.
URL:https://sactownsupermom.com/event/santas-christmas-cottage-in-historic-folsom-3/2025-12-20/
LOCATION:Santa’s Christmas Cottage\, 826 Sutter Street\, Folsom\, CA\, 95630
CATEGORIES:Folsom,Free Holidays
END:VEVENT
BEGIN:VEVENT
DTSTART;TZID=America/Los_Angeles:20251220T170000
DTEND;TZID=America/Los_Angeles:20251220T210000
DTSTAMP:20260421T055843
CREATED:20251210T214329Z
LAST-MODIFIED:20251218T001542Z
UID:10001185-1766250000-1766264400@sactownsupermom.com
SUMMARY:Auburn's Country Christmas
DESCRIPTION:Country Christmas takes place in Auburn on December 13 & 20\, 2025. This free holiday event will have a festive atmosphere with activities\, vendors\, holiday treats\, live music\, holiday decor\, and more. Kids can enjoy visits with Santa and family-friendly activities.
URL:https://sactownsupermom.com/event/auburns-country-christmas-2/
LOCATION:Old Town Auburn\, CA\, 95603
CATEGORIES:Dec 19-21,Free Holidays,Holidays
END:VEVENT
BEGIN:VEVENT
DTSTART;TZID=America/Los_Angeles:20251220T170000
DTEND;TZID=America/Los_Angeles:20251220T190000
DTSTAMP:20260421T055843
CREATED:20251126T043910Z
LAST-MODIFIED:20251216T050115Z
UID:10001121-1766250000-1766257200@sactownsupermom.com
SUMMARY:Winterfest at Swanston Community Center (Cancelled)
DESCRIPTION:NOTE: This event has been cancelled for 2025. Winterfest will take place on Saturday\, December 20\, 2025 at the Swanston Community Center. This free event will include train rides\, carnival games\, snow machines\, a dance party\, hot cocoa\, and more festive fun.
URL:https://sactownsupermom.com/event/winterfest-at-at-swanston-community-center/
LOCATION:Swanston Community Center\, 2350 Northrop Ave\, Sacramento\, CA\, 95825
CATEGORIES:Free Holidays
END:VEVENT
BEGIN:VEVENT
DTSTART;TZID=America/Los_Angeles:20251218T153000
DTEND;TZID=America/Los_Angeles:20251218T183000
DTSTAMP:20260421T055843
CREATED:20251209T173236Z
LAST-MODIFIED:20251209T173244Z
UID:10001167-1766071800-1766082600@sactownsupermom.com
SUMMARY:Posada Navideña (La Familia)
DESCRIPTION:La Familia will be having its annual Posada Navideña on Thursday\, December 18\, 2025. The free event will have activities for kids\, hot chocolate\, pan dulce\, a visit from Santa\, community resources\, and more.
URL:https://sactownsupermom.com/event/posada-navidena-la-familia/
LOCATION:3301 37th Ave.\, Sacramento\, CA\, 95824
CATEGORIES:December,Free Holidays
END:VEVENT
BEGIN:VEVENT
DTSTART;TZID=America/Los_Angeles:20251214T170000
DTEND;TZID=America/Los_Angeles:20251214T210000
DTSTAMP:20260421T055843
CREATED:20251201T041513Z
LAST-MODIFIED:20251210T213708Z
UID:10001147-1765731600-1765746000@sactownsupermom.com
SUMMARY:Southside Santa Parade 2025
DESCRIPTION:The Southside Santa Parade will kick off from McClatchy Park on Sunday\, December 14\, 2025. This free holiday event will have Santa visiting parks and schools in South Sacramento throughout the night. Families will be able to take free photos with Santa while enjoying a hot cocoa stand and Christmas carolers. \nThe Southside Santa Parade 2025 Parade Route is below: \n\n5:30pm – McClatchy Park – 3500 5th Ave\, Sacramento\n 5:50-6:20pm – Ethel Phillips Elementary School – 2930 21st Ave\, Sacramento\n 6:40-7:10pm @ St. Robert School – 2251 Irvin Wy\, Sacramento\n 7:30-8pm @ Argonaut Park – 1402 Dickson St\, Sacramento\n 8:20-8:50pm @ Chorley Park – 7000-7098 20th St\, Sacramento
URL:https://sactownsupermom.com/event/southside-santa-parade-2025/
LOCATION:McClatchy Park\, 3500 5th Avenue\, Sacramento\, CA\, 95817
CATEGORIES:Dec 12-14,December,Free Holidays
END:VEVENT
BEGIN:VEVENT
DTSTART;TZID=America/Los_Angeles:20251214T143000
DTEND;TZID=America/Los_Angeles:20251214T160000
DTSTAMP:20260421T055843
CREATED:20251128T230848Z
LAST-MODIFIED:20251210T213830Z
UID:10001146-1765722600-1765728000@sactownsupermom.com
SUMMARY:Light Up Elk Grove
DESCRIPTION:The Chabad of Elk Grove will have its annual free Hanukkah celebration\, Light Up Elk Grove on Sunday\, December 14\, 2025. There will be latkes and donuts\, balloon twisting\, face painting\, cookie decorating\, caricatures\, a 9-ft LED menorah\, and more at this free community event.
URL:https://sactownsupermom.com/event/light-up-elk-grove/
LOCATION:Old Town Plaza\, 9615 Railroad Street\, Elk Grove\, CA\, 95624
CATEGORIES:Dec 12-14,December,Elk Grove,Free Holidays,Holiday Events
END:VEVENT
BEGIN:VEVENT
DTSTART;TZID=America/Los_Angeles:20251214T140000
DTEND;TZID=America/Los_Angeles:20251214T183000
DTSTAMP:20260421T055843
CREATED:20251126T045001Z
LAST-MODIFIED:20251210T213900Z
UID:10001122-1765720800-1765737000@sactownsupermom.com
SUMMARY:Posada Navideña (Franklin Blvd District)
DESCRIPTION:Celebrate Posada Navideña at a free event with the Franklin Boulevard District on Sunday\, December 14\, 2025. Families can enjoy festive music\, food\, traditional drinks\, kid-friendly activities\, a visit from Santa\, and more.
URL:https://sactownsupermom.com/event/posada-navidena-franklin-blvd-district/
LOCATION:Ethel Phillips Elementary School\, 2930 21st Ave\, Sacramento\, CA\, 95820
CATEGORIES:Dec 12-14,December,Free Holidays,Holiday Events
END:VEVENT
BEGIN:VEVENT
DTSTART;TZID=America/Los_Angeles:20251214T140000
DTEND;TZID=America/Los_Angeles:20251214T160000
DTSTAMP:20260421T055843
CREATED:20251114T034241Z
LAST-MODIFIED:20251210T213928Z
UID:10001018-1765720800-1765728000@sactownsupermom.com
SUMMARY:Snowy Sunday with Anna\, Elsa\, & the Grinch
DESCRIPTION:Snowy Sunday with Anna\, Elsa & the Grinch takes place on Sunday\, December 14\, 2025. This free event will have photo opportunities with these favorite wintertime characters as they roam the Fountains at Roseville while it snows at the center.
URL:https://sactownsupermom.com/event/snowy-sunday-with-anna-elsa-the-grinch/
LOCATION:Fountains at Roseville\, 1013 Galleria Blvd\, Roseville\, CA\, 95678
CATEGORIES:Dec 12-14,December,Free Holidays,Holiday Characters
END:VEVENT
BEGIN:VEVENT
DTSTART;TZID=America/Los_Angeles:20251214T110000
DTEND;TZID=America/Los_Angeles:20251214T150000
DTSTAMP:20260421T055843
CREATED:20251104T174056Z
LAST-MODIFIED:20251210T213631Z
UID:10000948-1765710000-1765724400@sactownsupermom.com
SUMMARY:D1 Winter Wonderland in North Natomas
DESCRIPTION:The free D1 Winter Wonderland takes place on Sunday\, December 14\, 2025 at North Natomas Regional Park. There will be free ice skating\, games\, holiday workshops\, and vendors. Santa will also make an appearance.
URL:https://sactownsupermom.com/event/d1-winter-wonderland-in-north-natomas/
LOCATION:North Natomas Regional Park\, 4989 Natomas Blvd\, Sacramento\, CA\, 95835
CATEGORIES:Dec 12-14,December,Free Holidays,Holiday Events
END:VEVENT
BEGIN:VEVENT
DTSTART;TZID=America/Los_Angeles:20251214T110000
DTEND;TZID=America/Los_Angeles:20251214T130000
DTSTAMP:20260421T055843
CREATED:20251210T042558Z
LAST-MODIFIED:20251210T042558Z
UID:10001192-1765710000-1765717200@sactownsupermom.com
SUMMARY:Santa Claus Experience at Big Oak Nursery
DESCRIPTION:A Santa Claus experience will take place on Sunday\, December 14\, 2025 at Big Oak Nursery in Elk Grove. Enjoy free photos with Santa from 11am to 1pm.
URL:https://sactownsupermom.com/event/santa-claus-experience-at-big-oak-nursery/
LOCATION:Big Oak Nursery\, 10071 Grant Line Road\, Elk Grove\, CA\, 95624
CATEGORIES:Dec 12-14,Free Holidays
END:VEVENT
BEGIN:VEVENT
DTSTART;TZID=America/Los_Angeles:20251213T170000
DTEND;TZID=America/Los_Angeles:20251213T210000
DTSTAMP:20260421T055843
CREATED:20251126T201611Z
LAST-MODIFIED:20251210T213439Z
UID:10001138-1765645200-1765659600@sactownsupermom.com
SUMMARY:Posada Navideña
DESCRIPTION:Posada Navideña will be taking place on Saturday\, December 13\, 2025 at Placita MX in Sacramento. This free family-friendly event will have ponce\, pan\, tamales\, aguinaldos for young kids\, live mariachi music\, local vendors\, and more. While this is a free event\, RSVP is required.
URL:https://sactownsupermom.com/event/posada-navidena/
LOCATION:Placita MX\, 2331 K Street\, Sacramento\, CA\, 95816
CATEGORIES:Dec 12-14,December,Free Holidays
END:VEVENT
BEGIN:VEVENT
DTSTART;TZID=America/Los_Angeles:20251213T150000
DTEND;TZID=America/Los_Angeles:20251213T160000
DTSTAMP:20260421T055843
CREATED:20251210T005656Z
LAST-MODIFIED:20251210T005656Z
UID:10001172-1765638000-1765641600@sactownsupermom.com
SUMMARY:Holiday Show: North Pole Review by Fratello Marionettes
DESCRIPTION:The Fratello Marionettes will perform a free North Pole Review show on Saturday\, December 13\, 2025. The show will take place at 3pm at the Mary L Stephens Davis Branch Library in Davis.
URL:https://sactownsupermom.com/event/holiday-show-north-pole-review-by-fratello-marionettes/
LOCATION:Mary L Stephens Davis Branch Library\, 315 E 14th St\, Davis\, CA\, 95616
CATEGORIES:Dec 12-14,Free Holidays
END:VEVENT
BEGIN:VEVENT
DTSTART;TZID=America/Los_Angeles:20251213T140000
DTEND;TZID=America/Los_Angeles:20251213T160000
DTSTAMP:20260421T055843
CREATED:20251210T001531Z
LAST-MODIFIED:20251210T213354Z
UID:10001196-1765634400-1765641600@sactownsupermom.com
SUMMARY:Santa Comes to Southpointe
DESCRIPTION:Santa comes to Southpointe Christian Center on Saturday\, December 13\, 2025. There will be photos with Santa\, hot cocoa\, kids’ crafts\, and more at this free holiday event. The first 500 children (12 and under) will receive a free toy.
URL:https://sactownsupermom.com/event/santa-comes-to-southpointe/
LOCATION:Southpointe Christian Center\, 7520 Stockton Blvd\, Sacramento\, CA\, 95823
CATEGORIES:Dec 12-14,Free Holidays
END:VEVENT
BEGIN:VEVENT
DTSTART;TZID=America/Los_Angeles:20251213T130000
DTEND;TZID=America/Los_Angeles:20251213T150000
DTSTAMP:20260421T055843
CREATED:20251210T002113Z
LAST-MODIFIED:20251210T213311Z
UID:10001168-1765630800-1765638000@sactownsupermom.com
SUMMARY:Santa at Strapping Store
DESCRIPTION:Santa and Mrs Claus will be at Strapping Store in Oak Park on Saturday\, December 13\, 2025. Photos will take place from 1-3pm. There will also be cookies and cocoa.
URL:https://sactownsupermom.com/event/santa-at-strapping-store/
LOCATION:Strapping Store\, 3405 Broadway\, Sacramento\, CA\, 95817
CATEGORIES:Dec 12-14,Free Holidays
END:VEVENT
BEGIN:VEVENT
DTSTART;TZID=America/Los_Angeles:20251213T120000
DTEND;TZID=America/Los_Angeles:20251213T150000
DTSTAMP:20260421T055843
CREATED:20251114T025340Z
LAST-MODIFIED:20251210T213251Z
UID:10001017-1765627200-1765638000@sactownsupermom.com
SUMMARY:Holidays at Koobs
DESCRIPTION:Holidays at Koobs will take place on Saturday\, December 13\, 2025. This free holiday event in the Koobs Nature Area will have visits with Santa\, and crafts for families that include ornament making\, and cookie decorating.
URL:https://sactownsupermom.com/event/holidays-at-koobs/
LOCATION:Earl J. Koobs Nature Area\, 5325 Engle Rd\, Carmichael\, CA\, 95608
CATEGORIES:Dec 12-14,December,Free Holidays,Holiday Events,Holidays,Santa Photos
END:VEVENT
BEGIN:VEVENT
DTSTART;TZID=America/Los_Angeles:20251213T110000
DTEND;TZID=America/Los_Angeles:20251213T140000
DTSTAMP:20260421T055843
CREATED:20251126T045725Z
LAST-MODIFIED:20251210T213158Z
UID:10001124-1765623600-1765634400@sactownsupermom.com
SUMMARY:Pictures with the Grinch at Harley-Davidson Sacramento
DESCRIPTION:If your kids love The Grinch\, Harley-Davidson of Sacramento will have free pictures with The Grinch on Saturday\, December 13\, 2025.
URL:https://sactownsupermom.com/event/pictures-with-the-grinch/
LOCATION:Harley-Davidson of Sacramento\, 1000 Arden Way\, Sacramento\, CA\, 95815
CATEGORIES:Dec 12-14,Free Holidays,Holiday Characters
END:VEVENT
BEGIN:VEVENT
DTSTART;TZID=America/Los_Angeles:20251213T110000
DTEND;TZID=America/Los_Angeles:20251213T140000
DTSTAMP:20260421T055843
CREATED:20251116T063725Z
LAST-MODIFIED:20251210T055916Z
UID:10001053-1765623600-1765634400@sactownsupermom.com
SUMMARY:Christmas at 40 Acres (Sold Out)
DESCRIPTION:Celebrate Christmas at 40 Acres on Saturday\, December 13\, 2025. This free community event at Guild Theater and Underground Books will have photos with Santa\, hands-on activities\, face painting\, crafts\, treats\, and more. There will also be cookies and hot cocoa. While this is a free event\, registration is required.
URL:https://sactownsupermom.com/event/christmas-at-40-acres/
LOCATION:40 Acres Complex\, 35th Street\, Sacramento\, CA\, 95817
CATEGORIES:December,Free Holidays,Holiday Events
END:VEVENT
BEGIN:VEVENT
DTSTART;TZID=America/Los_Angeles:20251213T100000
DTEND;TZID=America/Los_Angeles:20251213T120000
DTSTAMP:20260421T055843
CREATED:20251126T051349Z
LAST-MODIFIED:20251210T213122Z
UID:10001127-1765620000-1765627200@sactownsupermom.com
SUMMARY:Popcorn with Santa in Elk Grove
DESCRIPTION:The Popcorn Store in Elk Grove will have its free annual Popcorn with Santa event on Saturday\, December 13\, 2025. In addition to free photos with Santa\, there will be free bags of gourmet white popcorn and a kids art activity table.
URL:https://sactownsupermom.com/event/popcorn-with-santa-in-elk-grove/
LOCATION:The Popcorn Store\, 9679 E Stockton Blvd\, Elk Grove\, CA\, 95624
CATEGORIES:Dec 12-14,December,Free Holidays,Holiday Events
END:VEVENT
BEGIN:VEVENT
DTSTART;TZID=America/Los_Angeles:20251213T100000
DTEND;TZID=America/Los_Angeles:20251213T120000
DTSTAMP:20260421T055843
CREATED:20251116T045015Z
LAST-MODIFIED:20251210T213103Z
UID:10001041-1765620000-1765627200@sactownsupermom.com
SUMMARY:Santa's Arrival at Citrus Town Center
DESCRIPTION:Celebrate Santa’s Arrival at Citrus Town Center on Saturday\, December 13\, 2025. There will be free photos with Santa\, face painting\, snow play tables\, and a festive atmosphere. While this is a free event\, donations for Santa photos are appreciated.
URL:https://sactownsupermom.com/event/santas-arrival-at-citrus-town-center/
LOCATION:Citrus Town Center\, 7925 Greenback Ln\, Citrus Heights\, CA\, 95610
CATEGORIES:Dec 12-14,Free Holidays
END:VEVENT
BEGIN:VEVENT
DTSTART;TZID=America/Los_Angeles:20251213T100000
DTEND;TZID=America/Los_Angeles:20251213T110000
DTSTAMP:20260421T055843
CREATED:20251116T032738Z
LAST-MODIFIED:20251210T213041Z
UID:10001036-1765620000-1765623600@sactownsupermom.com
SUMMARY:Sacramento Santa Parade
DESCRIPTION:This year’s Santa Parade will take place on Saturday\, December 13\, 2025. This free holiday parade will circle Capitol Park beginning at 10am. Expect to see marching bands\, horses\, vehicles\, clowns\, and Santa Claus.
URL:https://sactownsupermom.com/event/sacramento-santa-parade/
LOCATION:Capitol Park\, Sacramento\, CA\, 95814
CATEGORIES:Christmas Parades,Dec 12-14,December,Free Holidays,Holiday Events
END:VEVENT
BEGIN:VEVENT
DTSTART;TZID=America/Los_Angeles:20251213T083000
DTEND;TZID=America/Los_Angeles:20251213T113000
DTSTAMP:20260421T055843
CREATED:20251208T044008Z
LAST-MODIFIED:20251210T213015Z
UID:10001165-1765614600-1765625400@sactownsupermom.com
SUMMARY:Fortunate Feast (Oak Park)
DESCRIPTION:The 7th Annual Fortunate Feast takes place on Saturday\, December 13\, 2025 at the Oak Park Community Center. Neighbors are welcome to attend this free community event. Breakfast\, coffee or hot cocoa\, new toys\, gifts\,  holiday supplies\, decor\, and more will all be available for free. Santa will also be available at the event for photo opportunities.
URL:https://sactownsupermom.com/event/fortunate-feast-oak-park/
LOCATION:Oak Park Community Center\, 3425 Martin Luther King Junior Boulevard\, Sacramento\, CA\, 95817
CATEGORIES:Dec 12-14,Free Holidays
END:VEVENT
BEGIN:VEVENT
DTSTART;TZID=America/Los_Angeles:20251209T160000
DTEND;TZID=America/Los_Angeles:20251209T180000
DTSTAMP:20260421T055843
CREATED:20251126T050956Z
LAST-MODIFIED:20251126T050956Z
UID:10001126-1765296000-1765303200@sactownsupermom.com
SUMMARY:Peanuts & Police: A Charlie Brown Holiday at Galt PD
DESCRIPTION:The Galt Police Department will have a holiday open house on Tuesday\, December 9\, 2025. This free event will include photos with Santa\, a stroll through the police station\, and holiday treats like cookie and hot cocoa.
URL:https://sactownsupermom.com/event/peanuts-police-a-charlie-brown-holiday-at-galt-pd/
LOCATION:Galt Police Department\, 455 Industrial Drive\, Galt\, CA\, 95632
CATEGORIES:Free Holidays
END:VEVENT
BEGIN:VEVENT
DTSTART;TZID=America/Los_Angeles:20251208T170000
DTEND;TZID=America/Los_Angeles:20251208T190000
DTSTAMP:20260421T055843
CREATED:20251116T064539Z
LAST-MODIFIED:20251116T064539Z
UID:10001054-1765213200-1765220400@sactownsupermom.com
SUMMARY:Santa Comes to Critterville
DESCRIPTION:Enjoy free photos with Santa and Mrs. Claus at Critterville on Monday\, December 8\, 2025. There will be cookies\, cocoa\, and a chance to see some of Critterville’s animal ambassadors.
URL:https://sactownsupermom.com/event/santa-comes-to-critterville/
LOCATION:Sacramento Splash\, 4426 Excelsior Rd\, Mather\, CA\, 95655
CATEGORIES:Free Holidays
END:VEVENT
BEGIN:VEVENT
DTSTART;TZID=America/Los_Angeles:20251207T150000
DTEND;TZID=America/Los_Angeles:20251207T170000
DTSTAMP:20260421T055843
CREATED:20251204T062934Z
LAST-MODIFIED:20251204T062934Z
UID:10001150-1765119600-1765126800@sactownsupermom.com
SUMMARY:A Fresh Aire Holiday Concert in Rancho Cordova
DESCRIPTION:Enjoy A Fresh Aire Holiday Concert with the Rancho Cordova River City Concert Band on Sunday\, December 7\, 2025. This free holiday concert will have the music of Manheim Steamroller.
URL:https://sactownsupermom.com/event/a-fresh-aire-holiday-concert-in-rancho-cordova/
LOCATION:Koreana Plaza\, KP Market Food Court\, 10971 Olson Dr Suite 362\, Rancho Cordova\, CA
CATEGORIES:Dec 5-7,Free Holidays
END:VEVENT
BEGIN:VEVENT
DTSTART;TZID=America/Los_Angeles:20251207T110000
DTEND;TZID=America/Los_Angeles:20251207T130000
DTSTAMP:20260421T055843
CREATED:20251115T232150Z
LAST-MODIFIED:20251115T232150Z
UID:10001033-1765105200-1765112400@sactownsupermom.com
SUMMARY:Creekside Town Center Holiday Celebration
DESCRIPTION:Creekside Town Center in Roseville will have a free Holiday Celebration on Sunday\, December 7\, 2025. There will be photos with Santa\, treat bags\, face painting\, and balloon art.
URL:https://sactownsupermom.com/event/creekside-town-center-holiday-celebration/
LOCATION:Creekside Town Center\, 1180-1256 Galleria Boulevard\, Roseville\, CA\, 95678
CATEGORIES:Free Holidays,Santa Photos
END:VEVENT
BEGIN:VEVENT
DTSTART;TZID=America/Los_Angeles:20251206T170000
DTEND;TZID=America/Los_Angeles:20251206T183000
DTSTAMP:20260421T055843
CREATED:20251121T062939Z
LAST-MODIFIED:20251204T182603Z
UID:10001118-1765040400-1765045800@sactownsupermom.com
SUMMARY:Lighted Boat Parade (Old Sacramento Waterfront)
DESCRIPTION:The Old Sacramento Lighted Boat Parade floats down the Sacramento River on Saturday\, December 6\, 2025. This annual boat parade is put on by the Capital City Yacht Club. The parade begins at 5pm.
URL:https://sactownsupermom.com/event/lighted-boat-parade-old-sacramento-waterfront/
LOCATION:Old Sacramento Waterfront\, Sacramento\, CA
CATEGORIES:Christmas Parades,Dec 5-7,December,Free Holidays,Holiday Events
END:VEVENT
BEGIN:VEVENT
DTSTART;TZID=America/Los_Angeles:20251206T160000
DTEND;TZID=America/Los_Angeles:20251206T190000
DTSTAMP:20260421T055843
CREATED:20251126T072450Z
LAST-MODIFIED:20251204T071656Z
UID:10001132-1765036800-1765047600@sactownsupermom.com
SUMMARY:Rocklin Tree Lighting
DESCRIPTION:The Rocklin Tree Lighting at Quarry Park is on Saturday\, December 6\, 2025. Enjoy visits with Santa\, live entertainment\, a holiday market\, and more. The tree lighting kicks off at 7pm.
URL:https://sactownsupermom.com/event/rocklin-tree-lighting/
LOCATION:Rocklin Quarry Park\, 4000 Rocklin Road\, Rocklin\, CA\, 95677
CATEGORIES:Dec 5-7,Free Holidays
END:VEVENT
BEGIN:VEVENT
DTSTART;TZID=America/Los_Angeles:20251206T150000
DTEND;TZID=America/Los_Angeles:20251206T200000
DTSTAMP:20260421T055843
CREATED:20251104T025108Z
LAST-MODIFIED:20251204T071630Z
UID:10000946-1765033200-1765051200@sactownsupermom.com
SUMMARY:Illumination Holiday Festival in Elk Grove
DESCRIPTION:The annual Illumination Holiday Festival will take place on Saturday\, December 6\, 2025. This favorite free holiday event in Elk Grove will have a special one day ice skating rink\, Santa photo ops\, bounce houses for kids\, and winter carnival games. The tree lighting ceremony will take place at 6pm which will be followed by a snowfall finale.
URL:https://sactownsupermom.com/event/illumination-festival-in-elk-grove/
LOCATION:District 56\, 8230 Civic Center Dr #100\, Elk Grove\, CA\, 95757
CATEGORIES:Dec 5-7,December,Elk Grove,Free Holidays,Holiday Events,Santa Photos
END:VEVENT
END:VCALENDAR