BEGIN:VCALENDAR
VERSION:2.0
PRODID:-//Sactown Supermom - ECPv6.15.20//NONSGML v1.0//EN
CALSCALE:GREGORIAN
METHOD:PUBLISH
X-ORIGINAL-URL:https://sactownsupermom.com
X-WR-CALDESC:Events for Sactown Supermom
REFRESH-INTERVAL;VALUE=DURATION:PT1H
X-Robots-Tag:noindex
X-PUBLISHED-TTL:PT1H
BEGIN:VTIMEZONE
TZID:America/Los_Angeles
BEGIN:DAYLIGHT
TZOFFSETFROM:-0800
TZOFFSETTO:-0700
TZNAME:PDT
DTSTART:20240310T100000
END:DAYLIGHT
BEGIN:STANDARD
TZOFFSETFROM:-0700
TZOFFSETTO:-0800
TZNAME:PST
DTSTART:20241103T090000
END:STANDARD
BEGIN:DAYLIGHT
TZOFFSETFROM:-0800
TZOFFSETTO:-0700
TZNAME:PDT
DTSTART:20250309T100000
END:DAYLIGHT
BEGIN:STANDARD
TZOFFSETFROM:-0700
TZOFFSETTO:-0800
TZNAME:PST
DTSTART:20251102T090000
END:STANDARD
BEGIN:DAYLIGHT
TZOFFSETFROM:-0800
TZOFFSETTO:-0700
TZNAME:PDT
DTSTART:20260308T100000
END:DAYLIGHT
BEGIN:STANDARD
TZOFFSETFROM:-0700
TZOFFSETTO:-0800
TZNAME:PST
DTSTART:20261101T090000
END:STANDARD
END:VTIMEZONE
BEGIN:VEVENT
DTSTART;TZID=America/Los_Angeles:20251213T100000
DTEND;TZID=America/Los_Angeles:20251213T110000
DTSTAMP:20260421T041520
CREATED:20251116T032738Z
LAST-MODIFIED:20251210T213041Z
UID:10001036-1765620000-1765623600@sactownsupermom.com
SUMMARY:Sacramento Santa Parade
DESCRIPTION:This year’s Santa Parade will take place on Saturday\, December 13\, 2025. This free holiday parade will circle Capitol Park beginning at 10am. Expect to see marching bands\, horses\, vehicles\, clowns\, and Santa Claus.
URL:https://sactownsupermom.com/event/sacramento-santa-parade/
LOCATION:Capitol Park\, Sacramento\, CA\, 95814
CATEGORIES:Christmas Parades,Dec 12-14,December,Free Holidays,Holiday Events
END:VEVENT
BEGIN:VEVENT
DTSTART;TZID=America/Los_Angeles:20251206T180000
DTEND;TZID=America/Los_Angeles:20251206T190000
DTSTAMP:20260421T041520
CREATED:20251121T062212Z
LAST-MODIFIED:20251121T062223Z
UID:10001117-1765044000-1765047600@sactownsupermom.com
SUMMARY:Parade of Lights in Elk Grove
DESCRIPTION:Parade of Lights in Elk Grove will bring holiday joy to the community on Saturday\, December 6\, 2025. The parade will take place from 6pm to 7pm\, and is the same night and time as the Illumination Festival in Elk Grove.
URL:https://sactownsupermom.com/event/parade-of-lights-in-elk-grove/
LOCATION:District 56\, 8230 Civic Center Dr #100\, Elk Grove\, CA\, 95757
CATEGORIES:Christmas Parades
END:VEVENT
BEGIN:VEVENT
DTSTART;TZID=America/Los_Angeles:20251206T170000
DTEND;TZID=America/Los_Angeles:20251206T183000
DTSTAMP:20260421T041520
CREATED:20251121T062939Z
LAST-MODIFIED:20251204T182603Z
UID:10001118-1765040400-1765045800@sactownsupermom.com
SUMMARY:Lighted Boat Parade (Old Sacramento Waterfront)
DESCRIPTION:The Old Sacramento Lighted Boat Parade floats down the Sacramento River on Saturday\, December 6\, 2025. This annual boat parade is put on by the Capital City Yacht Club. The parade begins at 5pm.
URL:https://sactownsupermom.com/event/lighted-boat-parade-old-sacramento-waterfront/
LOCATION:Old Sacramento Waterfront\, Sacramento\, CA
CATEGORIES:Christmas Parades,Dec 5-7,December,Free Holidays,Holiday Events
END:VEVENT
BEGIN:VEVENT
DTSTART;TZID=America/Los_Angeles:20251206T130000
DTEND;TZID=America/Los_Angeles:20251206T210000
DTSTAMP:20260421T041520
CREATED:20251121T060109Z
LAST-MODIFIED:20251204T071451Z
UID:10001116-1765026000-1765054800@sactownsupermom.com
SUMMARY:Winters Lighted Tractor Parade
DESCRIPTION:The annual Winters Lighted Tractor Parade will take place on Saturday\, December 6\, 2025. The parade will begin at 6pm in downtown Winters. There will be family-friendly holiday activities during the day before the parade beginning at 1pm. \n  \n 
URL:https://sactownsupermom.com/event/winters-lighted-tractor-parade/
LOCATION:Downtown Winters\, Winters\, CA
CATEGORIES:Christmas Parades,Dec 5-7
END:VEVENT
BEGIN:VEVENT
DTSTART;TZID=America/Los_Angeles:20251206T100000
DTEND;TZID=America/Los_Angeles:20251206T120000
DTSTAMP:20260421T041520
CREATED:20251120T031419Z
LAST-MODIFIED:20251204T070421Z
UID:10001114-1765015200-1765022400@sactownsupermom.com
SUMMARY:Sylvia Besana Holiday Parade
DESCRIPTION:The Annual Sylvia Besana Holiday Parade takes place on Saturday\, December 6\, 2025 in downtown Roseville. The parade marches down Vernon Street and begins at 10:30am. Vendors will be open before the parade at 10am at Vernon Street Town Square. This free parade will have floats\, horses\, Santa\, and more.
URL:https://sactownsupermom.com/event/sylvia-besana-holiday-parade/
LOCATION:Vernon Street Town Square\, 311 Vernon St\, Roseville\, CA\, 95678
CATEGORIES:Christmas Parades,Dec 5-7,Free Holidays
END:VEVENT
BEGIN:VEVENT
DTSTART;TZID=America/Los_Angeles:20251206T080000
DTEND;TZID=America/Los_Angeles:20251206T170000
DTSTAMP:20260421T041520
CREATED:20251114T035453Z
LAST-MODIFIED:20251204T065921Z
UID:10001019-1765008000-1765040400@sactownsupermom.com
SUMMARY:Lighting of the Night in Galt
DESCRIPTION:The City of Galt gets into the holiday spirit with Lighting of the Night on Saturday\, December 6\, 2025. The free holiday festivities will include Santa photos\, a tree lighting ceremony\, Christmas parade\, and a holiday market. \nThe parade begins at 6:30pm at the 4th Street Promenade in Galt. \nA Lighting of the Night event schedule is below: \n\n4pm – Holiday Market & Kids Performances at Littleton\n4-8pm – Food Vendors\n5:15pm – Christmas caroling at Littleton\n6:15pm – Lighting of the tree at Civic Drive\n6:30pm – Christmas Parade
URL:https://sactownsupermom.com/event/lighting-of-the-night/
LOCATION:4th Street Promenade\, Galt\, CA\, 95632
CATEGORIES:Christmas Parades,Dec 5-7,December,Free Holidays,Holiday Events
END:VEVENT
BEGIN:VEVENT
DTSTART;TZID=America/Los_Angeles:20251204T181700
DTEND;TZID=America/Los_Angeles:20251204T210000
DTSTAMP:20260421T041520
CREATED:20251121T064013Z
LAST-MODIFIED:20251121T064013Z
UID:10001119-1764872220-1764882000@sactownsupermom.com
SUMMARY:Lodi Parade of Lights
DESCRIPTION:Parade of Lights will march through downtown Lodi on Thursday\, December 4\, 2025. This free event is a beloved holiday spectacle with festive lights\, vehicles\, entertainment\, and Santa Claus. The parade begins at 6:17pm.
URL:https://sactownsupermom.com/event/lodi-parade-of-lights/
LOCATION:Downtown Lodi\, Lodi\, CA\, 95240
CATEGORIES:Christmas Parades,Free Holidays
END:VEVENT
BEGIN:VEVENT
DTSTART;TZID=America/Los_Angeles:20251204T180000
DTEND;TZID=America/Los_Angeles:20251204T203000
DTSTAMP:20260421T041520
CREATED:20251201T142421Z
LAST-MODIFIED:20251201T142421Z
UID:10001148-1764871200-1764880200@sactownsupermom.com
SUMMARY:Downtown Candlelight Parade and Winter Wonderland
DESCRIPTION:The annual Candlelight Parade and Winter Wonderland in Davis will take place on Thursday\, December 4\, 2025. The Candlelight Parade will begin at 6pm from the Davis Food Co-op Parking Lot and end at G Street (between 2nd and 3rd Streets). The winter wonderland event will begin after the parade and will include horse and carriage rides\, photo opportunities with characters and a fire truck\, free showings of the short film\, Olaf’s Frozen Adventure at the Varsity Theatre\, and more holiday fun.
URL:https://sactownsupermom.com/event/downtown-candlelight-parade-and-winter-wonderland/
LOCATION:G Street Plaza\, Davis\, CA\, 95616
CATEGORIES:Christmas Parades,Free Holidays,Holiday Events
END:VEVENT
END:VCALENDAR