BEGIN:VCALENDAR
VERSION:2.0
PRODID:-//Sactown Supermom - ECPv6.15.20//NONSGML v1.0//EN
CALSCALE:GREGORIAN
METHOD:PUBLISH
X-ORIGINAL-URL:https://sactownsupermom.com
X-WR-CALDESC:Events for Sactown Supermom
REFRESH-INTERVAL;VALUE=DURATION:PT1H
X-Robots-Tag:noindex
X-PUBLISHED-TTL:PT1H
BEGIN:VTIMEZONE
TZID:America/Los_Angeles
BEGIN:DAYLIGHT
TZOFFSETFROM:-0800
TZOFFSETTO:-0700
TZNAME:PDT
DTSTART:20240310T100000
END:DAYLIGHT
BEGIN:STANDARD
TZOFFSETFROM:-0700
TZOFFSETTO:-0800
TZNAME:PST
DTSTART:20241103T090000
END:STANDARD
BEGIN:DAYLIGHT
TZOFFSETFROM:-0800
TZOFFSETTO:-0700
TZNAME:PDT
DTSTART:20250309T100000
END:DAYLIGHT
BEGIN:STANDARD
TZOFFSETFROM:-0700
TZOFFSETTO:-0800
TZNAME:PST
DTSTART:20251102T090000
END:STANDARD
BEGIN:DAYLIGHT
TZOFFSETFROM:-0800
TZOFFSETTO:-0700
TZNAME:PDT
DTSTART:20260308T100000
END:DAYLIGHT
BEGIN:STANDARD
TZOFFSETFROM:-0700
TZOFFSETTO:-0800
TZNAME:PST
DTSTART:20261101T090000
END:STANDARD
END:VTIMEZONE
BEGIN:VEVENT
DTSTART;TZID=America/Los_Angeles:20250412T103000
DTEND;TZID=America/Los_Angeles:20250412T170000
DTSTAMP:20260419T215623
CREATED:20250108T044151Z
LAST-MODIFIED:20250306T175755Z
UID:10000016-1744453800-1744477200@sactownsupermom.com
SUMMARY:Baby Loves Art at Crocker Art Museum
DESCRIPTION:Babies up to 18 months old are invited on a visually captivating gallery walk through the Crocker for Baby Loves Art. Parents and caregivers also get the opportunity to connect with their babies and each other. \nRegistration is recommended as space is limited for the event. Registration becomes available 30 days before the event. \nBaby Loves Art is included with museum admission. \n  \n 
URL:https://sactownsupermom.com/event/baby-loves-art-at-the-crocker/2025-04-12/
LOCATION:Crocker Art Museum\, 216 O Street\, Sacramento\, CA\, 95814
CATEGORIES:Art,Babies,Crocker Art Museum
END:VEVENT
END:VCALENDAR