BEGIN:VCALENDAR
VERSION:2.0
PRODID:-//Sactown Supermom - ECPv6.15.20//NONSGML v1.0//EN
CALSCALE:GREGORIAN
METHOD:PUBLISH
X-ORIGINAL-URL:https://sactownsupermom.com
X-WR-CALDESC:Events for Sactown Supermom
REFRESH-INTERVAL;VALUE=DURATION:PT1H
X-Robots-Tag:noindex
X-PUBLISHED-TTL:PT1H
BEGIN:VTIMEZONE
TZID:America/Los_Angeles
BEGIN:DAYLIGHT
TZOFFSETFROM:-0800
TZOFFSETTO:-0700
TZNAME:PDT
DTSTART:20250309T100000
END:DAYLIGHT
BEGIN:STANDARD
TZOFFSETFROM:-0700
TZOFFSETTO:-0800
TZNAME:PST
DTSTART:20251102T090000
END:STANDARD
BEGIN:DAYLIGHT
TZOFFSETFROM:-0800
TZOFFSETTO:-0700
TZNAME:PDT
DTSTART:20260308T100000
END:DAYLIGHT
BEGIN:STANDARD
TZOFFSETFROM:-0700
TZOFFSETTO:-0800
TZNAME:PST
DTSTART:20261101T090000
END:STANDARD
BEGIN:DAYLIGHT
TZOFFSETFROM:-0800
TZOFFSETTO:-0700
TZNAME:PDT
DTSTART:20270314T100000
END:DAYLIGHT
BEGIN:STANDARD
TZOFFSETFROM:-0700
TZOFFSETTO:-0800
TZNAME:PST
DTSTART:20271107T090000
END:STANDARD
END:VTIMEZONE
BEGIN:VEVENT
DTSTART;TZID=America/Los_Angeles:20260404T100000
DTEND;TZID=America/Los_Angeles:20260404T110000
DTSTAMP:20260421T013934
CREATED:20260323T200315Z
LAST-MODIFIED:20260401T165611Z
UID:10001630-1775296800-1775300400@sactownsupermom.com
SUMMARY:Avid Reader Bookstore Egg Hunt
DESCRIPTION:Avid Reader Bookstore on Broadway will have a free Easter egg hunt in their store on Saturday\, April 4\, 2026. The egg hunt is for all ages starting at 10am. Eggs will be filled with candy and prizes.
URL:https://sactownsupermom.com/event/avid-reader-bookstore-egg-hunt-2/
LOCATION:Avid Reader Bookstore\, 1945 Broadway\, Sacramento\, CA\, 95818
CATEGORIES:April 3-5,Easter Egg Hunts
END:VEVENT
BEGIN:VEVENT
DTSTART;TZID=America/Los_Angeles:20260404T093000
DTEND;TZID=America/Los_Angeles:20260404T103000
DTSTAMP:20260421T013934
CREATED:20260331T223353Z
LAST-MODIFIED:20260401T165541Z
UID:10001715-1775295000-1775298600@sactownsupermom.com
SUMMARY:Hoppy Morning Storytime & Easter Egg Hunt
DESCRIPTION:Wild Sisters Book Co in Sacramento will have a free Hoppy Morning Storytime & Easter Egg Hunt on Saturday\, April 4\, 2026 starting at 9:30am. In addition to the egg hunt\, there will be songs\, stories\, and fun activities.
URL:https://sactownsupermom.com/event/hoppy-morning-storytime-easter-egg-hunt/
LOCATION:Wild Sisters Book Company\, 3325 Folsom Blvd.\, Sacramento\, CA\, 95816
CATEGORIES:April 3-5,Easter Egg Hunts
END:VEVENT
BEGIN:VEVENT
DTSTART;TZID=America/Los_Angeles:20260404T090000
DTEND;TZID=America/Los_Angeles:20260405T160000
DTSTAMP:20260421T013934
CREATED:20260327T225929Z
LAST-MODIFIED:20260401T165521Z
UID:10001655-1775293200-1775404800@sactownsupermom.com
SUMMARY:Boa Vista Easter Egg Hunt 2026 (Apple Hill)
DESCRIPTION:Boa Vista Orchards in Apple Hill will have a two-day egg hunt for kids on Saturday & Sunday\, April 4 & 5\, 2026. Egg hunts begin at 12pm and are $3 per person. While the egg hunts begin at 12pm\, activities start at 9am. \nEgg hunts will take place in age groups. It’s recommended to arrive by 11am. The age groups include: \n\nAges 3 and under\nAges 4-7\nAges 8-12\n\nOther activities will also take place on both days beginning at 9am. These activities include: \n\nMeet the Easter Bunny\nTrain Rides\nBracelet making\nSparkle tattoos\nFace painting\n\nFood and beverages will also be available for purchase at Boa Vista.
URL:https://sactownsupermom.com/event/boa-vista-easter-egg-hunt-2026-apple-hill-2/
LOCATION:Boa Vista Orchards\, 2952 Carson Rd\, Placerville\, 95667
CATEGORIES:April 3-5,Easter Egg Hunts,Spring
END:VEVENT
BEGIN:VEVENT
DTSTART;TZID=America/Los_Angeles:20260404T090000
DTEND;TZID=America/Los_Angeles:20260404T140000
DTSTAMP:20260421T013934
CREATED:20260328T152218Z
LAST-MODIFIED:20260401T165502Z
UID:10001660-1775293200-1775311200@sactownsupermom.com
SUMMARY:Touch-A-Truck & Safety Expo (Galt)
DESCRIPTION:The Galt Touch-A-Truck & Safety Expo takes place on Saturday\, April 4\, 206 at the Galt Saturday Market at the 4th Street Promenade. Kids can climb into trucks and vehicles like fire trucks\, construction vehicles\, explore farm equipment\, and see live demonstrations with police drones and police K9s at this free event. \n 
URL:https://sactownsupermom.com/event/touch-a-truck-safety-expo-galt/
LOCATION:4th Street Promenade\, Galt\, CA\, 95632
CATEGORIES:April,April 3-5,Touch-A-Truck
END:VEVENT
BEGIN:VEVENT
DTSTART;TZID=America/Los_Angeles:20260404T090000
DTEND;TZID=America/Los_Angeles:20260404T120000
DTSTAMP:20260421T013934
CREATED:20260403T150416Z
LAST-MODIFIED:20260403T150416Z
UID:10001730-1775293200-1775304000@sactownsupermom.com
SUMMARY:Kiwanis 42nd Annual Easter Egg Hunt
DESCRIPTION:A free Easter egg hunt will take place on Saturday\, April 4\, 2026 at Rusch Community Park in Citrus Heights. Egg hunts will take place at different times by age group. There will also be face painting\, sack races\, tug-o-war\, fishing booths\, and more family fun. \nEaster Egg Hunts Schedule: \n\n9:30am – Ages 4 and under\n10am – Ages 5-7\n10:30am – Ages 8-12\n11am – Ages 4 & under\n11:30am – Ages 5-12
URL:https://sactownsupermom.com/event/kiwanis-42nd-annual-easter-egg-hunt/
LOCATION:Rusch Community Park\, 7801 Auburn Blvd\, Citrus Heights\, CA\, 95610
CATEGORIES:April 3-5,Easter Egg Hunts
END:VEVENT
BEGIN:VEVENT
DTSTART;TZID=America/Los_Angeles:20260404T090000
DTEND;TZID=America/Los_Angeles:20260404T120000
DTSTAMP:20260421T013934
CREATED:20260227T162035Z
LAST-MODIFIED:20260401T165445Z
UID:10001515-1775293200-1775304000@sactownsupermom.com
SUMMARY:Fair Oaks Eggstravaganza
DESCRIPTION:The annual Fair Oaks Eggstravaganza in Fair Oaks Park takes place on Saturday\, April 4\, 2026\, with a free egg hunt\, petting zoo\, carnival games\, bunny photos\, and more. \nEgg hunts are free\, and are for children ages 0-14 years old from 9am to 11:30am. Don’t forget to bring your own basket! Find eight eggs and turn them in for a prize. Note that all eggs are empty and are continuously hidden on the lawn for kids to find throughout the time of the event. \nGolden eggs are hidden throughout the day and can be redeemed for a special prize.
URL:https://sactownsupermom.com/event/fair-oaks-eggstravaganza/
LOCATION:Fair Oaks Park\, 11549 Fair Oaks Blvd\, Fair Oaks\, CA\, 95628
CATEGORIES:April,April 3-5,Easter Egg Hunts
END:VEVENT
BEGIN:VEVENT
DTSTART;TZID=America/Los_Angeles:20260404T090000
DTEND;TZID=America/Los_Angeles:20260404T110000
DTSTAMP:20260421T013934
CREATED:20260323T180613Z
LAST-MODIFIED:20260401T165430Z
UID:10001625-1775293200-1775300400@sactownsupermom.com
SUMMARY:Easter Egg Hunt (Wonder PlayZone)
DESCRIPTION:Hop over to Folsom’s newest indoor playground on Saturday\, April 4\, 2026 for an Easter Egg Hunt at Wonder PlayZone. Kids will get to do an egg hunt and enjoy open play at this two-hour event. This event is ideal for children ages 3-7. Socks are mandatory.
URL:https://sactownsupermom.com/event/easter-egg-hunt-wonder-playzone/
LOCATION:Wonder PlayZone\, 98 Clarksville Road\, Suite 180\, Folsom\, CA\, 95630
CATEGORIES:April 3-5,Easter Egg Hunts
END:VEVENT
BEGIN:VEVENT
DTSTART;TZID=America/Los_Angeles:20260404T090000
DTEND;TZID=America/Los_Angeles:20260404T100000
DTSTAMP:20260421T013934
CREATED:20260309T061003Z
LAST-MODIFIED:20260401T165408Z
UID:10001574-1775293200-1775296800@sactownsupermom.com
SUMMARY:Easter Egg Hunt (El Dorado Hills)
DESCRIPTION:Hop over to Promontory Park in El Dorado Hills for a free Easter egg hunt and pictures with the Easter bunny on Saturday\, April 4\, 2026. This is a free event that begins at 9am. Bring an Easter basket!
URL:https://sactownsupermom.com/event/easter-egg-hunt-el-dorado-hills/
LOCATION:Promontory Park\, 2700 Alexandra Dr\, El Dorado Hills\, CA\, 95762
CATEGORIES:April 3-5,Easter Egg Hunts
END:VEVENT
BEGIN:VEVENT
DTSTART;TZID=America/Los_Angeles:20260404T083000
DTEND;TZID=America/Los_Angeles:20260404T103000
DTSTAMP:20260421T013934
CREATED:20260309T221229Z
LAST-MODIFIED:20260401T165340Z
UID:10001582-1775291400-1775298600@sactownsupermom.com
SUMMARY:Easter Eggstravaganza (Arden Park)
DESCRIPTION:Families can hop over to Arden Park for an Easter Eggstravaganza on Saturday\, April 4\, 2026. There will be free egg hunts\, games\, and photos with the bunny. Egg hunts begin at 9:30am. \nAn Easter breakfast will take place before the egg hunts and is available for purchase for $7. Register for the breakfast here.
URL:https://sactownsupermom.com/event/easter-eggstravaganza-arden-park/
LOCATION:Arden Park\, 1000 La Sierra Drive\, Sacramento\, CA\, 95864
CATEGORIES:April 3-5,Easter Egg Hunts
END:VEVENT
BEGIN:VEVENT
DTSTART;TZID=America/Los_Angeles:20260404T080000
DTEND;TZID=America/Los_Angeles:20260404T110000
DTSTAMP:20260421T013934
CREATED:20260309T061741Z
LAST-MODIFIED:20260401T165320Z
UID:10001575-1775289600-1775300400@sactownsupermom.com
SUMMARY:Festival of Eggs at Lembi Park
DESCRIPTION:The annual Festival of Eggs at Lembi Park in Folsom takes place on Saturday\, April 4\, 2026\, from 8-11am. Kids can follow the Bunny Trail and along the way\, collect stamps\, eggs\, and goodies. Don’t forget to bring your own basket for the eggs! \nIf you complete all the stops\, you’ll have a chance at a Golden Egg prize. Photos with the bunny will occur at the finish line. \nThere will be staggered arrival times that include: \n\n8-9:30am for kids ages 6 and under\n9:30-11am for kids ages 7-10\n\nIn addition to the Bunny Trail\, there will be carnival games\, vendors\, activities\, and entertainment. A pancake breakfast will also be available for purchase.
URL:https://sactownsupermom.com/event/festival-of-eggs-at-lembi-park-2/
LOCATION:Lembi Community Park\, 1302 Riley Street\, Folsom\, CA\, 95630
CATEGORIES:April,April 3-5,Easter Egg Hunts
END:VEVENT
BEGIN:VEVENT
DTSTART;TZID=America/Los_Angeles:20260403T183000
DTEND;TZID=America/Los_Angeles:20260403T220000
DTSTAMP:20260421T013934
CREATED:20260331T205344Z
LAST-MODIFIED:20260331T205344Z
UID:10001703-1775241000-1775253600@sactownsupermom.com
SUMMARY:Athletics Home Opener 2026
DESCRIPTION:The Athletics Home Opener takes place on Friday\, April 3\, 2026 against the Houston Astros at Sutter Health Park.
URL:https://sactownsupermom.com/event/athletics-home-opener-2026/
LOCATION:Sutter Health Park\, 400 Ballpark Dr.\, West Sacramento\, CA\, 95691
CATEGORIES:April 3-5
END:VEVENT
BEGIN:VEVENT
DTSTART;TZID=America/Los_Angeles:20260403T103000
DTEND;TZID=America/Los_Angeles:20260403T113000
DTSTAMP:20260421T013934
CREATED:20260330T194111Z
LAST-MODIFIED:20260401T165246Z
UID:10001665-1775212200-1775215800@sactownsupermom.com
SUMMARY:Easter Egg Hunt at Enchanted Natomas
DESCRIPTION:An Easter Egg Hunt will take place on Friday\, April 3\, 2026 at Enchanted Natomas. The egg hunt will begin at 11am. A meet and greet with the Easter bunny will occur at 10:30am before the egg hunt. Reservations are required for this event.
URL:https://sactownsupermom.com/event/easter-egg-hunt-at-enchanted-natomas/
LOCATION:Enchanted Natomas\, 3291 Truxel Rd #3\, Sacramento\, CA\, 95833
CATEGORIES:April 3-5,Easter Egg Hunts
END:VEVENT
BEGIN:VEVENT
DTSTART;TZID=America/Los_Angeles:20260403T100000
DTEND;TZID=America/Los_Angeles:20260403T130000
DTSTAMP:20260421T013934
CREATED:20260327T224857Z
LAST-MODIFIED:20260401T165229Z
UID:10001653-1775210400-1775221200@sactownsupermom.com
SUMMARY:Easter Egg Hunt (Roseville Golfland Sunsplash)
DESCRIPTION:Hop over to Roseville Golfland Sunsplash for their annual Easter egg hunt on Friday\, April 3\, 2026. The $30 egg hunt package includes the egg hunt\, unlimited arcade games from 10am-1pm\, and other Easter activities. Advance online registration required.
URL:https://sactownsupermom.com/event/easter-egg-hunt-roseville-golfland-sunsplash/
LOCATION:Roseville Golfland Sunsplash\, 1893 Taylor Road\, Roseville\, CA\, 95661
CATEGORIES:April 3-5,Easter Egg Hunts
END:VEVENT
END:VCALENDAR