BEGIN:VCALENDAR
VERSION:2.0
PRODID:-//Sactown Supermom - ECPv6.15.20//NONSGML v1.0//EN
CALSCALE:GREGORIAN
METHOD:PUBLISH
X-ORIGINAL-URL:https://sactownsupermom.com
X-WR-CALDESC:Events for Sactown Supermom
REFRESH-INTERVAL;VALUE=DURATION:PT1H
X-Robots-Tag:noindex
X-PUBLISHED-TTL:PT1H
BEGIN:VTIMEZONE
TZID:America/Los_Angeles
BEGIN:DAYLIGHT
TZOFFSETFROM:-0800
TZOFFSETTO:-0700
TZNAME:PDT
DTSTART:20250309T100000
END:DAYLIGHT
BEGIN:STANDARD
TZOFFSETFROM:-0700
TZOFFSETTO:-0800
TZNAME:PST
DTSTART:20251102T090000
END:STANDARD
BEGIN:DAYLIGHT
TZOFFSETFROM:-0800
TZOFFSETTO:-0700
TZNAME:PDT
DTSTART:20260308T100000
END:DAYLIGHT
BEGIN:STANDARD
TZOFFSETFROM:-0700
TZOFFSETTO:-0800
TZNAME:PST
DTSTART:20261101T090000
END:STANDARD
BEGIN:DAYLIGHT
TZOFFSETFROM:-0800
TZOFFSETTO:-0700
TZNAME:PDT
DTSTART:20270314T100000
END:DAYLIGHT
BEGIN:STANDARD
TZOFFSETFROM:-0700
TZOFFSETTO:-0800
TZNAME:PST
DTSTART:20271107T090000
END:STANDARD
END:VTIMEZONE
BEGIN:VEVENT
DTSTART;TZID=America/Los_Angeles:20260423T180000
DTEND;TZID=America/Los_Angeles:20260423T230000
DTSTAMP:20260422T003729
CREATED:20260414T202530Z
LAST-MODIFIED:20260422T015120Z
UID:10001772-1776967200-1776985200@sactownsupermom.com
SUMMARY:West Wind Drive-In Free Movie Night
DESCRIPTION:Catch a free drive-in movie at the West Wind Drive-In in Sacramento on Thursday\, April 23\, 2026. Gates open at 6pm and movies begin at 8pm. $2 nachos will be available\, along with activities such as bounce houses\, face painters\, a balloon artist\, and an obstacle course.
URL:https://sactownsupermom.com/event/west-wind-drive-in-free-movie-night/
LOCATION:West Wind Drive-In\, 9616 Oates Dr\, Sacramento\, CA\, 95827
CATEGORIES:April,April 24-26
END:VEVENT
BEGIN:VEVENT
DTSTART;TZID=America/Los_Angeles:20260424T120000
DTEND;TZID=America/Los_Angeles:20260426T230000
DTSTAMP:20260422T003729
CREATED:20260422T015014Z
LAST-MODIFIED:20260422T015015Z
UID:10001689-1777032000-1777244400@sactownsupermom.com
SUMMARY:Spring SacAnime
DESCRIPTION:Spring SacAnime will take place from Friday to Sunday\, April 24-26\, 2026 at Cal Expo in Sacramento. Over 100 vendors and cosplayers will be at this family-friendly event. Children ages 11 and under do not require a ticket.
URL:https://sactownsupermom.com/event/spring-sacanime-2/
LOCATION:Cal Expo\, 1600 Exposition Boulevard\, Sacramento\, CA\, 95815
CATEGORIES:Anime,April 24-26
END:VEVENT
BEGIN:VEVENT
DTSTART;TZID=America/Los_Angeles:20260424T160000
DTEND;TZID=America/Los_Angeles:20260424T170000
DTSTAMP:20260422T003729
CREATED:20260331T035219Z
LAST-MODIFIED:20260422T015246Z
UID:10001673-1777046400-1777050000@sactownsupermom.com
SUMMARY:Rainbow Party (Roseville)
DESCRIPTION:Get colorful at a free Rainbow Party on Friday\, April 24\, 2026 in Roseville. This free event will begin at the Project Play Playground (behind Riley Library) with chalk art\, followed by a colored-powder party at Mahany Park. \n 
URL:https://sactownsupermom.com/event/rainbow-party-roseville/
LOCATION:Mahany Park\, 1501 Pleasant Grove Blvd\, Roseville\, CA\, 95747
CATEGORIES:April 24-26,Roseville
END:VEVENT
BEGIN:VEVENT
DTSTART;TZID=America/Los_Angeles:20260425T090000
DTEND;TZID=America/Los_Angeles:20260425T150000
DTSTAMP:20260422T003729
CREATED:20260331T053538Z
LAST-MODIFIED:20260422T015659Z
UID:10001685-1777107600-1777129200@sactownsupermom.com
SUMMARY:California Duck Days
DESCRIPTION:The family-friendly California Duck Days outdoor festival will take place at the Yolo Basin Foundation on Saturday\, April 25\, 2026. The festival will include many wetland-themed activities for kids\, animals\, arts and crafts\, and more. \nInteractive activities include: \n\nDuckling encounters\nCrafting tule duck decoys and toy boats\nWater quality testing\nPaint a wooden duck decoy\nBuilding wooden duck next boxes\nPond exploration in the wetlands\nDissecting owl pond pellets\nAnimal Ambassadors (including bat ambassadors)\nFly tying\n90-minute Yolo Bypass Wildlife Area bus tour\nDuck and geese calling\nHunting dog demonstrations (though note that pet dogs are not allowed at the event)\n30+ Vendor booths\n\nThere is a $25 vehicle entry. Food trucks will be on-site at the event. Be sure to bring water and sunscreen.
URL:https://sactownsupermom.com/event/california-duck-days-2/
LOCATION:Yolo Bypass Wildlife Area Headquarters\, 45211 Country Road 32B (Chiles Road)\, Davis\, CA\, 95618
CATEGORIES:April,April 24-26,Nature
END:VEVENT
BEGIN:VEVENT
DTSTART;TZID=America/Los_Angeles:20260425T090000
DTEND;TZID=America/Los_Angeles:20260425T150000
DTSTAMP:20260422T003729
CREATED:20260331T202036Z
LAST-MODIFIED:20260422T015719Z
UID:10001700-1777107600-1777129200@sactownsupermom.com
SUMMARY:Yoomén: A Celebration of Spring (Roseville)
DESCRIPTION:The Maidu Museum will have a free Yoomén celebration on Saturday\, April 25\, 2026 to welcome spring and new growth. There will be Native American performances and cultural demos\, plus kid-friendly game stations and museum tours.
URL:https://sactownsupermom.com/event/yoomen-a-celebration-of-spring-roseville/
LOCATION:Maidu Museum & Historic Site\, 1970 Johnson Ranch Drive\, Roseville\, CA\, 95661
CATEGORIES:April,April 24-26
END:VEVENT
BEGIN:VEVENT
DTSTART;TZID=America/Los_Angeles:20260425T103000
DTEND;TZID=America/Los_Angeles:20260425T113000
DTSTAMP:20260422T003729
CREATED:20260422T015741Z
LAST-MODIFIED:20260422T015741Z
UID:10001650-1777113000-1777116600@sactownsupermom.com
SUMMARY:K-Pop Demon Hunters Laser Show (MOSAC)
DESCRIPTION:SMUD MOSAC will have a K-Pop Demon Hunters Laser Show on select Saturdays in March and April 2026. Two show times will include 10:30am and 4pm. Museum admission is required for entry\, and is an additional $15 for the Laser Show. Online advance purchase of tickets is recommended as shows are likely to sell out.
URL:https://sactownsupermom.com/event/k-pop-demon-hunters-laser-show-mosac-3-5/
LOCATION:MOSAC\, 400 Jibboom Street\, Sacramento\, CA\, 95811
CATEGORIES:April 24-26,Museums
END:VEVENT
BEGIN:VEVENT
DTSTART;TZID=America/Los_Angeles:20260425T110000
DTEND;TZID=America/Los_Angeles:20260425T140000
DTSTAMP:20260422T003729
CREATED:20260412T225214Z
LAST-MODIFIED:20260422T015800Z
UID:10001765-1777114800-1777125600@sactownsupermom.com
SUMMARY:Trails in Bloom (River District)
DESCRIPTION:The free Trails in Bloom community celebration will take place on Saturday\, April 25\, 2026 at Hanami Line Park. The event will celebrate contributions of Japanese Americans in Sacramento. Enjoy live music\, have a picnic at the park\, and bike along the Two Rivers Bike Trail.
URL:https://sactownsupermom.com/event/trails-in-bloom-river-district/
LOCATION:Hanami Line Park\, 450 Jibboom St\, Sacramento\, CA\, 95811
CATEGORIES:April 24-26,Free
END:VEVENT
BEGIN:VEVENT
DTSTART;TZID=America/Los_Angeles:20260425T110000
DTEND;TZID=America/Los_Angeles:20260425T140000
DTSTAMP:20260422T003729
CREATED:20260422T022853Z
LAST-MODIFIED:20260422T022853Z
UID:10001809-1777114800-1777125600@sactownsupermom.com
SUMMARY:Jump Into Spring
DESCRIPTION:A free Jump Into Spring event will be held on Saturday\, April 25\, 2026 at Niños Park in Sacramento. This family-friendly event will include games\, bounce houses\, prizes\, and more.
URL:https://sactownsupermom.com/event/jump-into-spring/
LOCATION:Niños Park\, 705 Northfield Dr\, Sacramento\, CA\, 95833
CATEGORIES:April 24-26
END:VEVENT
BEGIN:VEVENT
DTSTART;TZID=America/Los_Angeles:20260425T110000
DTEND;TZID=America/Los_Angeles:20260425T150000
DTSTAMP:20260422T003729
CREATED:20260331T222654Z
LAST-MODIFIED:20260422T015830Z
UID:10001714-1777114800-1777129200@sactownsupermom.com
SUMMARY:36th Annual Kids Day (Rancho Cordova)
DESCRIPTION:The 36th Annual Kids Day will take place on Saturday\, April 25\, 2026 at Hagan Community Park in Rancho Cordova. This free community event will include kid-friendly activities\, attractions\, parent resources\, and giveaways. While this is a free event\, there is a $6 vehicle entry fee into the park.
URL:https://sactownsupermom.com/event/36th-annual-kids-day-rancho-cordova/
LOCATION:Hagan Community Park\, 2197 Chase Dr\, Rancho Cordova\, CA\, 95670
CATEGORIES:April,April 24-26
END:VEVENT
BEGIN:VEVENT
DTSTART;TZID=America/Los_Angeles:20260425T110000
DTEND;TZID=America/Los_Angeles:20260425T150000
DTSTAMP:20260422T003729
CREATED:20260406T035436Z
LAST-MODIFIED:20260422T015849Z
UID:10001743-1777114800-1777129200@sactownsupermom.com
SUMMARY:Kid's Art Festival (Fair Oaks)
DESCRIPTION:A free community Kid’s Art Festival will take place in Fair Oaks Park on Saturday\, April 25\, 2026\, from 11am to 3pm. There will be interactive art stations\, an art show\, music and dance performances\, food trucks\, and more.
URL:https://sactownsupermom.com/event/kids-art-festival-fair-oaks/
LOCATION:Fair Oaks Park\, 11549 Fair Oaks Blvd\, Fair Oaks\, CA\, 95628
CATEGORIES:April 24-26,Free
END:VEVENT
BEGIN:VEVENT
DTSTART;TZID=America/Los_Angeles:20260425T110000
DTEND;TZID=America/Los_Angeles:20260425T160000
DTSTAMP:20260422T003729
CREATED:20260422T023323Z
LAST-MODIFIED:20260422T023323Z
UID:10001810-1777114800-1777132800@sactownsupermom.com
SUMMARY:ART-TISM
DESCRIPTION:The 5th Annual ART-TISM will take place on Saturday\, April 25\, 2026 at Luther Burbank High School in Sacramento. This free\, family-friendly event will have free haircuts\, nail care\, dental kits\, hands-on art stations\, and lots of sensory-friendly art. While this is a free event\, registration is required. \n 
URL:https://sactownsupermom.com/event/art-tism/
LOCATION:Luther Burbank High School\, 3500 Florin Road\, Sacramento\, CA\, 95823
CATEGORIES:April 24-26
END:VEVENT
BEGIN:VEVENT
DTSTART;TZID=America/Los_Angeles:20260425T120000
DTEND;TZID=America/Los_Angeles:20260425T143000
DTSTAMP:20260422T003729
CREATED:20260331T041055Z
LAST-MODIFIED:20260422T020640Z
UID:10001674-1777118400-1777127400@sactownsupermom.com
SUMMARY:Potterverse (Roseville)
DESCRIPTION:Attention\, muggles! Enjoy a day of wizardry at Potterverse on Saturday\, April 25\, 2026 at the Maidu Community Center in Roseville. There will be wand making\, house sorting\, butterbeer\, a quidditch course\, live animals\, fortune telling\, and so much more magical fun.  Tickets are required to purchase in advance and this event sells out fast!
URL:https://sactownsupermom.com/event/potterverse-roseville-2/
LOCATION:Maidu Community Center\, 1550 Maidu Drive\, Roseville\, CA\, 95661
CATEGORIES:April,April 24-26,Roseville
END:VEVENT
BEGIN:VEVENT
DTSTART;TZID=America/Los_Angeles:20260425T170000
DTEND;TZID=America/Los_Angeles:20260425T210000
DTSTAMP:20260422T003729
CREATED:20260331T032959Z
LAST-MODIFIED:20260422T020706Z
UID:10001670-1777136400-1777150800@sactownsupermom.com
SUMMARY:Early Learning: Family Fun & Playfest
DESCRIPTION:The Sacramento County Office of Education will host a free Family Fun & Playfest on April 25\, 2026 at Fairytale Town. Families will be able to learn about available community resources while getting to play at Fairytale Town on a Saturday evening. This event is for ages 0-5 years old and registration is required to receive free giveaways. \nChildren 5 and under will receive a free book\, and children ages 3-5 will receive a preschool backpack.
URL:https://sactownsupermom.com/event/early-learning-family-fun-playfest-2/
LOCATION:Fairytale Town
CATEGORIES:April,April 24-26
END:VEVENT
BEGIN:VEVENT
DTSTART;TZID=America/Los_Angeles:20260426T110000
DTEND;TZID=America/Los_Angeles:20260426T130000
DTSTAMP:20260422T003729
CREATED:20260422T023753Z
LAST-MODIFIED:20260422T023753Z
UID:10001811-1777201200-1777208400@sactownsupermom.com
SUMMARY:Paint with a Princess (Elk Grove)
DESCRIPTION:Kids can paint with the princess Rapunzel at Space To Play in Elk Grove on Sunday\, April 26\, 2026. In addition to painting\, take photos with the princess\, and enjoy two hours of play.
URL:https://sactownsupermom.com/event/paint-with-a-princess-elk-grove/
LOCATION:Space To Play\, 9683 Elk Grove Florin Rd\, Elk Grove\, CA\, 95624
CATEGORIES:April 24-26,Elk Grove
END:VEVENT
BEGIN:VEVENT
DTSTART;TZID=America/Los_Angeles:20260426T110000
DTEND;TZID=America/Los_Angeles:20260426T150000
DTSTAMP:20260422T003729
CREATED:20260331T201309Z
LAST-MODIFIED:20260422T032558Z
UID:10001699-1777201200-1777215600@sactownsupermom.com
SUMMARY:Día del Niño (Latino Center of Art & Culture)
DESCRIPTION:The Annual l Día del Niño at Latino Center of Art & Culture in Sacramento takes place on Sunday\, April 26\, 2026. There will be arts and crafts\, cultural games\, a resource fair\, and more family-friendly activities at this free event. \n 
URL:https://sactownsupermom.com/event/dia-del-nino-latina-center-of-art-culture/
LOCATION:Latino Center of Art and Culture\, 2700 Front Street\, Sacramento\, CA\, 95818
CATEGORIES:April,April 24-26
END:VEVENT
BEGIN:VEVENT
DTSTART;TZID=America/Los_Angeles:20260426T110000
DTEND;TZID=America/Los_Angeles:20260426T150000
DTSTAMP:20260422T003729
CREATED:20260401T222018Z
LAST-MODIFIED:20260422T020747Z
UID:10001729-1777201200-1777215600@sactownsupermom.com
SUMMARY:Old Sacramento Spring Festival
DESCRIPTION:Ring in spring with the Sacramento History Museum at a free family-friendly festival on Sunday\, April 26\, 2026 at Old Sacramento State Historic Park. Participate in dancing around a 15-foot maypole with ribbons and crowns. Other activities for kids of all ages include arts and crafts\, gold panning\, face painting\, lawn games\, hobby-horse races\, living history demos\, and more. \nCelebrate the spring season and the famed traditions of Camellia Festivals. The Old Sacramento Spring Festival takes place outside the Sacramento History Museum.
URL:https://sactownsupermom.com/event/old-sacramento-spring-festival-2/
LOCATION:Sacramento History Museum\, 101 I Street\, Old Sacramento\, CA\, 95814
CATEGORIES:April,April 24-26,Spring
END:VEVENT
BEGIN:VEVENT
DTSTART;TZID=America/Los_Angeles:20260426T110000
DTEND;TZID=America/Los_Angeles:20260426T160000
DTSTAMP:20260422T003729
CREATED:20260331T051253Z
LAST-MODIFIED:20260422T020812Z
UID:10001681-1777201200-1777219200@sactownsupermom.com
SUMMARY:Sacramento Earth Day
DESCRIPTION:The largest Earth Day celebration in Sacramento takes place on Sunday\, April 26\, 2026 at Southside Park. This is a free\, family-friendly festival from 11am to 4pm with over 100 vendors around the sustainability theme of\, “Water We Waiting For?” \nSacRT will be providing free transit to the event. To receive free transit\, show the driver the Free Rides Flyer on this website. There will also be a free bike valet provided by SABA (Sacramento Area Bicycle Advocates).
URL:https://sactownsupermom.com/event/sacramento-earth-day-2/
LOCATION:Southside Park\, 2115 6th Street\, Sacramento\, CA\, 95818
CATEGORIES:April,April 24-26,Earth Day
END:VEVENT
BEGIN:VEVENT
DTSTART;TZID=America/Los_Angeles:20260426T120000
DTEND;TZID=America/Los_Angeles:20260426T150000
DTSTAMP:20260422T003729
CREATED:20260422T024520Z
LAST-MODIFIED:20260422T024633Z
UID:10001812-1777204800-1777215600@sactownsupermom.com
SUMMARY:Ducky Derby (Rio Linda)
DESCRIPTION:The Rio Linda Lions Club will host a Ducky Derby on Sunday\, April 26\, 2026 at Roy Hayer Park in Rio Linda. In addition to duck races\, there will be family-friendly park activities. Duck races begin at 12:30pm. \nDucky Derby Prices: \n\n$5 per duck\n$25 for a quack pack of 6\n$100 for a grand pack of 25
URL:https://sactownsupermom.com/event/ducky-derby-rio-linda/
LOCATION:Roy Hayer Park\, 905 G St\, Rio Linda\, CA\, 95673
CATEGORIES:April 24-26
END:VEVENT
BEGIN:VEVENT
DTSTART;TZID=America/Los_Angeles:20260426T120000
DTEND;TZID=America/Los_Angeles:20260426T160000
DTSTAMP:20260422T003729
CREATED:20260409T161314Z
LAST-MODIFIED:20260422T020920Z
UID:10001758-1777204800-1777219200@sactownsupermom.com
SUMMARY:2026 Children's Day Health Fair
DESCRIPTION:A free Children’s Day Health Fair will take place on Sunday\, April 26\, 2026 at Arden Fair. There will be community resources\, free health screenings\, kid-friendly activities\, live entertainment and more.
URL:https://sactownsupermom.com/event/2026-childrens-day-health-fair/
LOCATION:Arden Fair\, 1689 Arden Way\, #1167\, Sacramento\, CA\, 95815
CATEGORIES:April 24-26,Arden Fair
END:VEVENT
BEGIN:VEVENT
DTSTART;TZID=America/Los_Angeles:20260426T130000
DTEND;TZID=America/Los_Angeles:20260426T150000
DTSTAMP:20260422T003729
CREATED:20260412T234325Z
LAST-MODIFIED:20260422T020944Z
UID:10001771-1777208400-1777215600@sactownsupermom.com
SUMMARY:April Pool's Day (El Dorado Hills)
DESCRIPTION:Enjoy a free day of swimming at Community Pool in El Dorado Hills on Sunday\, April 26\, 2026 for an April Pool’s Day. Learn about swim lessons\, birthday parties\, and more. \n 
URL:https://sactownsupermom.com/event/april-pools-day-el-dorado-hills/
LOCATION:EDH Community Pool\, 1021 Harvard Way\, El Dorado Hills\, CA\, 95762
CATEGORIES:April 24-26,Free
END:VEVENT
BEGIN:VEVENT
DTSTART;TZID=America/Los_Angeles:20260426T140000
DTEND;TZID=America/Los_Angeles:20260426T150000
DTSTAMP:20260422T003729
CREATED:20260409T160700Z
LAST-MODIFIED:20260422T021016Z
UID:10001757-1777212000-1777215600@sactownsupermom.com
SUMMARY:Children's Day / Book Day (Día de los Niños/Día de los Libros)
DESCRIPTION:Celebrate Children’s Day / Book Day (Día de los Niños/Día de los Libros) on Sunday\, April 26\, 2026 at the Mary L Stephens Davis Branch Library. Each child will receive a free “keeper” book. There will be crafts\, storytime\, and a performance by Cascada de Flores.
URL:https://sactownsupermom.com/event/childrens-day-book-day-dia-de-los-ninos-dia-de-los-libros/
LOCATION:Mary L Stephens Davis Branch Library\, 315 E 14th St\, Davis\, CA\, 95616
CATEGORIES:April 24-26,Free
END:VEVENT
END:VCALENDAR